BEGIN:VCALENDAR
VERSION:2.0
PRODID:-//Street Food Festival &amp; Market - ECPv6.15.12.2//NONSGML v1.0//EN
CALSCALE:GREGORIAN
METHOD:PUBLISH
X-WR-CALNAME:Street Food Festival &amp; Market
X-ORIGINAL-URL:https://street-food-market.de
X-WR-CALDESC:Veranstaltungen für Street Food Festival &amp; Market
REFRESH-INTERVAL;VALUE=DURATION:PT1H
X-Robots-Tag:noindex
X-PUBLISHED-TTL:PT1H
BEGIN:VTIMEZONE
TZID:Europe/Berlin
BEGIN:DAYLIGHT
TZOFFSETFROM:+0100
TZOFFSETTO:+0200
TZNAME:CEST
DTSTART:20250330T010000
END:DAYLIGHT
BEGIN:STANDARD
TZOFFSETFROM:+0200
TZOFFSETTO:+0100
TZNAME:CET
DTSTART:20251026T010000
END:STANDARD
BEGIN:DAYLIGHT
TZOFFSETFROM:+0100
TZOFFSETTO:+0200
TZNAME:CEST
DTSTART:20260329T010000
END:DAYLIGHT
BEGIN:STANDARD
TZOFFSETFROM:+0200
TZOFFSETTO:+0100
TZNAME:CET
DTSTART:20261025T010000
END:STANDARD
BEGIN:DAYLIGHT
TZOFFSETFROM:+0100
TZOFFSETTO:+0200
TZNAME:CEST
DTSTART:20270328T010000
END:DAYLIGHT
BEGIN:STANDARD
TZOFFSETFROM:+0200
TZOFFSETTO:+0100
TZNAME:CET
DTSTART:20271031T010000
END:STANDARD
END:VTIMEZONE
BEGIN:VEVENT
DTSTART;VALUE=DATE:20260424
DTEND;VALUE=DATE:20260427
DTSTAMP:20260424T023208
CREATED:20231124T080403Z
LAST-MODIFIED:20260420T085838Z
UID:7580-1776988800-1777247999@street-food-market.de
SUMMARY:📅Limburg🍔 Street Food Festival 2026
DESCRIPTION:Limburger Street Food Festival 2026 \nMarkt & Festplatz // In- und Outdoor // Großer Kidsbereich// Eintritt frei \nAuch in diesem Jahr darf am Wochenende von Freitag\, den 24.04.2026 bis Sonntag\, den 26.04.2026\, in der Domstadt auf dem Festplatz geschlemmt werden. Der geplante Künstlermarkt wird aufgrund der geringeren Nachfrage kleiner ausfallen\, dafür wird die Halle als großes Indoor-Kinderland mit zahlreichen Stationen am Samstag und Sonntag für Spiel und Spaß sorgen (weitere Informationen\, siehe unten).  \nDie internationalen Food Trucks und Stände servieren u.a. vegane Trends\,herzhafte Delikatessen\, süße Leckereien und erfrischende Drinks.. Die Eventprofis der Stadtleben GmbH und der Raketenklub GmbH freuen sich gemeinsam mit den beteiligten Ämtern sehr darauf\, nach Limburg zurückzukehren und für ein genussreiches Wochenende mit Unterhaltung für alle großen und kleinen Besucher zu sorgen.  \nBesonderes Highlight an allen Tagen: Neben der Straßenkünstler-Bühne mit Walkings Acts für bunte Unterhaltung und kostenfreien Parkplätze vor Ort. \n  \nNEU: Großes Indoor-Kinderland für kleine Räuber \nAm Samstag\, den 25.04.2026 und Sonntag\, den 26.04.2026 verwandelt sich die große Indoor-Halle in ein Spieleparadies für Kinder. Neben zahlreichen Hüpfburgen wird es u.a. einen interaktiven Bungee-Run\, eine Doppelrutsche in einer farbenfrohen Comic-Welt\, einen Piraten-Hindernisparcours und weitere Spiele wie Jenga\, Sumo-Ringen\, 4-Gewinnt und Co. geben – ideal zum Spielen\, Toben und Entdecken bei jeder Witterung.  \n  \nDer Eintritt pro Kind beläuft sich auf 5 Euro. Die Eltern dürfen kostenlos dabei sein. Wer möchte\, kann außerdem eine freiwillige Spende an ein festgelegtes Charity-Projekt entrichten.  \nEin großer Dank geht an die “Spring vor Glück GmbH” für die gute Zusammenarbeit und das tolle Equipment. \n  \n“Ein großer Dank geht auch dieses Jahr an die beteiligten Ämter\, die Anwohner und weiteren Partner für die tolle Zusammenarbeit! Ohne den Support wäre ein Event dieser Art und in diesen dynamischen Zeiten nicht möglich. Die Besucher können also auch weiterhin schlemmen\, staunen und Freunde treffeni.”\, so Kai Kauermann (Geschäftsführer Stadtleben GmbH). \n  \nMission Genussreise & Freunde treffen – Das Konzept der rollenden Küchenkunst \n  \nSchlemmen\, Staunen und Entdecken. So lässt sich das ebenso simple wie geniale Konzept der Street Food Festival Reihe prägnant beschreiben\, die bereits seit dem Herbst 2015 kulinarisch interessierte Besucher jeden Alters und unterschiedlichster Herkunft an den verschiedensten Standorten in ihren Bann zieht.„Fine Dining“ trifft hier auf das klassische Barbecue\, vegane und vegetarische Spezialitäten auf „Fast Casual Schweinereien“. Dieses einzigartige kulinarische Konzept wurde im Februar 2016 mit dem Tourismuspreis der Region Wiesbaden und Rheingau-Taunus ausgezeichnet. \n  \nAlles Wichtige auf einen Blick  \n  \nWann? \nFreitag\, den 24.04.2026 bis Sonntag\, den 26.04.2026 \n  \nWo? \nSte.-Foy-Straße 23\, Marktplatz & Festplatz\, 65549 Limburg an der Lahn \n  \nFreitag ab 16:00 Uhr  \nSamstag ab 12:00 Uhr  \nSonntag ab 12:00 Uhr  \n 
URL:https://street-food-market.de/event/%f0%9f%93%85limburg%f0%9f%8d%94-street-food-festival/
LOCATION:Limburg\, Ste.-Foy-Straße 23\, 65549\, Limburg\, Hessen\, Deutschland
CATEGORIES:Street Food Festivals
ATTACH;FMTTYPE=image/jpeg:https://street-food-market.de/wp-content/uploads/2019/11/Mexikanisch.jpg
END:VEVENT
BEGIN:VEVENT
DTSTART;VALUE=DATE:20260430
DTEND;VALUE=DATE:20260504
DTSTAMP:20260424T023208
CREATED:20260127T195118Z
LAST-MODIFIED:20260413T134800Z
UID:8551-1777507200-1777852799@street-food-market.de
SUMMARY:Wiesbadener Schoppetage2026
DESCRIPTION:Wiesbadener Schoppetage 2026\nWein\, Apfelwein & Genuss mitten in der Stadt\n Lokale und regionale Köstlichkeiten im Herzen der Stadt · Eintritt frei  · klein aber fein \nVon Donnerstag\, 30. April\, bis Sonntag\, 3. Mai 2026 laden die Wiesbadener Schoppetage wieder zum gemeinsamen Genießen\, Schlemmen und Verweilen ein. Vier Tage lang dreht sich auf dem Schlossplatz im Herzen Wiesbadens alles um hessische Spezialitäten\, gesellige Stunden und kulinarische Entdeckungen – ideal für einen entspannten Besuch mit Freunden oder der ganzen Familie. \nIn absolut zentraler Lage\, direkt vor dem Rathaus\, bietet der Schlossplatz die perfekte Gelegenheit\, den Marktbesuch mit einem Stadtbummel zu verbinden. Ob ein kurzer Stopp zwischendurch oder ein ausgedehnter Genussmoment auf der sonnigen Rathaustreppe – hier lässt sich Wiesbaden von seiner geschmackvollen Seite erleben. \nDie Besucher können sich auf ein kleines\, aber feines Angebot rund um Wein\, Apfelwein und vielfältige Street-Food-Köstlichkeiten freuen: von herzhaften Burgern bis hin zu süßen Leckereien ist für jeden Geschmack etwas dabei. Ausgewählte Winzer und Apfelweinkeltereien aus ganz Hessen präsentieren ihr Sortiment und sorgen für erstklassiges „Stöffsche“. Auch die kleinen Besucher kommen nicht zu kurz – ein Karussell sorgt für leuchtende Kinderaugen. \n„Wir freuen uns sehr\, die beliebten Wiesbadener Schoppetage erneut im Herzen der Stadt ausrichten zu können. Ohne die tatkräftige Unterstützung aller Beteiligten – von Stadt und Sponsoren bis hin zu Anwohnern und Besuchern – wäre ein solches Event in diesen dynamischen Zeiten nicht möglich. Umso schöner\, dass wir den Genuss auch weiterhin ohne Eintrittspreise anbieten können“\, so Kai Kauermann\, Geschäftsführer der Stadtleben GmbH. \nMit den Wiesbadener Schoppetagen möchten wir ein Stück regionaler Genusskultur zurück in die Landeshauptstadt bringen. Neben den weltweit geschätzten Weinen der Region stehen an diesem Wochenende auch weitere hessische Klassiker wie Apfelwein\, Handkäse & Co. im kulinarischen Fokus. Straßenkünstler sorgen zusätzlich für bunte Unterhaltung und eine lebendige Atmosphäre. Der Besuch lässt sich außerdem wunderbar mit einem Spaziergang durch den nahegelegenen Kurpark oder einem ausgedehnten Stadtbummel verbinden. \nWir wünschen allen Besuchern und Standbetreibern ein genussvolles\, entspanntes und stimmungsvolles Wochenende – ganz im Zeichen hessischer Gemütlichkeit und guten Geschmacks. \nWann?\nDonnerstag\, 30.04.2026 – Sonntag\, 03.05.2026 \nDonnerstag ab 16:00 Uhr \n \nFreitag ab 14:00 Uhr \n \nSamstag ab 12:00 Uhr \n \nSonntag ab 12:00 Uhr \n \nWo?\nSchlossplatz Wiesbaden (vor dem Rathaus)\n 65183 Wiesbaden
URL:https://street-food-market.de/event/wiesbadener-schoppetage2026/
LOCATION:Schlossplatz Wiesbaden
CATEGORIES:Genuss Festival,Sonderevents,Street Food Meile
ATTACH;FMTTYPE=image/jpeg:https://street-food-market.de/wp-content/uploads/2025/06/152827-Wi-Schlemmerwochen.jpg
END:VEVENT
END:VCALENDAR