BEGIN:VCALENDAR
VERSION:2.0
PRODID:-//Street Food Festival &amp; Market - ECPv6.15.12.2//NONSGML v1.0//EN
CALSCALE:GREGORIAN
METHOD:PUBLISH
X-ORIGINAL-URL:https://street-food-market.de
X-WR-CALDESC:Veranstaltungen für Street Food Festival &amp; Market
REFRESH-INTERVAL;VALUE=DURATION:PT1H
X-Robots-Tag:noindex
X-PUBLISHED-TTL:PT1H
BEGIN:VTIMEZONE
TZID:Europe/Berlin
BEGIN:DAYLIGHT
TZOFFSETFROM:+0100
TZOFFSETTO:+0200
TZNAME:CEST
DTSTART:20250330T010000
END:DAYLIGHT
BEGIN:STANDARD
TZOFFSETFROM:+0200
TZOFFSETTO:+0100
TZNAME:CET
DTSTART:20251026T010000
END:STANDARD
BEGIN:DAYLIGHT
TZOFFSETFROM:+0100
TZOFFSETTO:+0200
TZNAME:CEST
DTSTART:20260329T010000
END:DAYLIGHT
BEGIN:STANDARD
TZOFFSETFROM:+0200
TZOFFSETTO:+0100
TZNAME:CET
DTSTART:20261025T010000
END:STANDARD
BEGIN:DAYLIGHT
TZOFFSETFROM:+0100
TZOFFSETTO:+0200
TZNAME:CEST
DTSTART:20270328T010000
END:DAYLIGHT
BEGIN:STANDARD
TZOFFSETFROM:+0200
TZOFFSETTO:+0100
TZNAME:CET
DTSTART:20271031T010000
END:STANDARD
END:VTIMEZONE
BEGIN:VEVENT
DTSTART;VALUE=DATE:20260904
DTEND;VALUE=DATE:20260907
DTSTAMP:20260424T065344
CREATED:20260128T190029Z
LAST-MODIFIED:20260413T140746Z
UID:8602-1788480000-1788739199@street-food-market.de
SUMMARY:Alzenauer Street Food Festival 2026
DESCRIPTION:Alzenauer Street Food Festival 2026 \nBunte Unterhaltung // Leckeres aus aller Welt // Kinderland  \nDas Herzstück in der Region \nEs ist endlich wieder so weit: der „gute Geschmack“ kehrt zurück nach Alzenau! Am vorletzten Wochenende der bayerischen Sommerferien von Freitag\, den 04.09.2026 bis Sonntag\, den 06.09.2026 unter der Burg an der Kahl dürfen sich die Besucher:innen endlich wieder auf ein genuss- und abwechslungsreiches Wochenende freuen.  \n  \n“Das durchweg positive Feedback der vergangenen Jahre & die strahlenden\, zufriedenen Gesichter der zahlreichen Besucher\, haben uns auch in diesem Jahr  wieder dazu veranlasst alles zu geben\, Stände zu mobilisieren & ein abwechslungsreiches Rahmenprogramm zusammenzustellen. Für ausreichend Sitzgelegenheiten ist gesorgt.”\, so Kai Kauermann\, Geschäftsführer Stadtleben GmbH. \n  \nGenuss für jedermann – bunte Unterhaltung für Groß und Klein  \n  \nNeben saftigen Burgern aus hochwertigem Rindfleisch warten auch moderne Foodtrends\, vegane und vegetarische Spezialitäten\, süße Sünden und vieles mehr auf die Besucher in der zweitgrößten Stadt im Hochtaunuskreis. \nDie Stadtleben GmbH und die dazugehörigen Verbundpartner\, wie die Raketenklub GmbH freuen sich sehr auf dieses besondere Wochenende in Alzenau voll guter Laune\, leckerem Essen & coolen Drinks samt buntem Rahmenprogramm und selbstverständlich ganz besonders auf die netten Besucher\, mit denen das Event bereits in der Vergangenheit unheimlich viel Spaß gemacht hat! Für die kleinen Räuber wird es selbstverständlich auch wieder ein kostenfreies Kinderland geben.  \n  \nEin besonderer Dank geht an die Stadt\, die uns mit offenen Armen empfängt und uns bei der Logistik unterstützt. \n  \nMission Genussreise & Freunde treffen – Das Konzept der rollenden Küchenkunst \n  \nSchlemmen\, Staunen und Entdecken. So lässt sich das ebenso simple wie geniale Konzept der Street Food Festival Reihe prägnant beschreiben\, die bereits seit dem Herbst 2015 kulinarisch interessierte Besucher jeden Alters und unterschiedlichster Herkunft an den verschiedensten Standorten in ihren Bann zieht.„Fine Dining“ trifft hier auf das klassische Barbecue\, vegane und vegetarische Spezialitäten auf „Fast Casual Schweinereien“. Dieses einzigartige kulinarische Konzept wurde im Februar 2016 mit dem Tourismuspreis der Region Wiesbaden und Rheingau-Taunus ausgezeichnet. \n  \nAlles Wichtige auf einen Blick  \n  \nWann? \nFreitag\, den 04.09.2026 bis Sonntag\, den 06.09.2026 \n  \nWo? \nBurgparkplatz\, 63755 Alzenau  \n  \nFreitag 16:00 Uhr – 23:00 Uhr (Ende d. Musik\, Schließung Food Trucks – entspanntes Ausklingen)  \nSamstag 14:00 Uhr – 23:00 Uhr  (Ende d. Musik\, Schließung Food Trucks – entspanntes Ausklingen)  \nSonntag 12:00 Uhr – 18:00 Uhr \n 
URL:https://street-food-market.de/event/alzenauer-street-food-festival-2026/
LOCATION:Burgparkplatz Alzenau
CATEGORIES:Street Food Festivals
ATTACH;FMTTYPE=image/png:https://street-food-market.de/wp-content/uploads/2019/11/Brotgericht.png
END:VEVENT
BEGIN:VEVENT
DTSTART;VALUE=DATE:20260911
DTEND;VALUE=DATE:20260914
DTSTAMP:20260424T065344
CREATED:20260128T190310Z
LAST-MODIFIED:20260413T140851Z
UID:8605-1789084800-1789343999@street-food-market.de
SUMMARY:Hochheimer Wein-\, Bier- und Genuss-Festival 2026
DESCRIPTION:Hochheimer Wein-\, Bier- und Genuss Festival 2026 \nInternationale Food Trucks und Stände //klein aber fein// Eintritt frei \nWir kommen wieder! Von Freitag\, den 11.09.2026 bis Sonntag\, den 13.09.2026\, macht das Konzept der rollenden Küchenkunst im Rahmen des Wein-\, Bier- und Genuss Festivals Halt in Hochheim. Die Besucher dürfen sich auf ein kleines aber feines Angebot an Weinen und  Köstlichkeiten der Food Trucks freuen – und das in absolut zentraler Lage. Das Event findet auf dem Marktgelände am Weiher statt – zugleich Schauplatz des beliebten Hochheimer Markts. Auch der Weinstand der Stadt wird integriert. Ideal also\, um einen kleinen Stadtbummel oder einen Spaziergang durch die herbstlichen Weinberge mit internationalen Snacks zu verbinden. Der Eintritt ist frei! \n  \nDie Stadtleben GmbH und die dazugehörigen Verbundpartner wie die Raketenklub GmbH freuen sich sehr auf die Tage in Hochheim. Für die kleinen Räuber wird es einen Kidsbereich geben. \n  \n“Ein großer Dank geht an die Stadt und an die Anwohner für den tollen Support und das Verständnis. Wir freuen uns sehr\, dass wir diesen Standort bereits zum zweiten Mal bespielen können. Kostenlose Parkplätze stehen zur Verfügung.”\, so Kai Kauermann\, Geschäftsführer Stadtleben GmbH. \n  \nMission Genussreise & Freunde treffen – Das Konzept der rollenden Küchenkunst \n  \nSchlemmen\, Staunen und Entdecken. Neben dem Konzept der Genussfestivals setzt die Stadtleben GmbH auch die bekannten Street Food Festivals in einem Radius von 100 Kilometern rund um Wiesbaden um: Das wortwörtliche Erfolgsrezept der Street Food Festivals aus Fast Casual Schweinereien\, klassischem Barbecue und vielem mehr wurde im Februar 2016 mit dem Tourismuspreis der Region Wiesbaden und Rheingau-Taunus ausgezeichnet. \n  \nAlles Wichtige auf einen Blick  \n  \nWann? \nFreitag\, den 11.09.2026 bis Sonntag\, den 13.09.2026 \nFreitag 16:00 Uhr – 23:00 Uhr (Schließung Food Trucks – entspanntes Ausklingen)  \nSamstag 14:00 Uhr – 23:00 Uhr  (Schließung Food Trucks – entspanntes Ausklingen)  \nSonntag 12:00 Uhr – 20:00 Uhr \n  \nWo?  \n  \nMarktgelände am Weiher
URL:https://street-food-market.de/event/hochheimer-wein-bier-und-genuss-festival-2026/
LOCATION:Marktgelände am Weiher Hochheim
CATEGORIES:Bier-Genuss-Festival,Wein-Genuss-Festival
ATTACH;FMTTYPE=image/jpeg:https://street-food-market.de/wp-content/uploads/2019/11/Eisvariation.jpg
END:VEVENT
BEGIN:VEVENT
DTSTART;VALUE=DATE:20260911
DTEND;VALUE=DATE:20260914
DTSTAMP:20260424T065344
CREATED:20260128T190531Z
LAST-MODIFIED:20260413T141107Z
UID:8608-1789084800-1789343999@street-food-market.de
SUMMARY:Oppenheimer Bierfest mit Street Food Meile 2026
DESCRIPTION:Oppenheimer Bierfest mit Street Food Meile 2026 \nFestwiese Oppenheim // Kleines aber feines Angebot // Eintritt frei \nEvent-Premiere: Im Zeitraum von Freitag\, den 11.09.2026 bis einschließlich Sonntag\, den 13.09.2026\, macht das Konzept der rollenden Küchenkunst im Rahmen des Oppenheimer Bierfests mit Street Food Meile erstmals Halt im rheinlandpfälzischen Oppenheim auf der Festwiese. \nDie Besucher dürfen sich auf ein kleines aber feines Angebot an zünftigem Allgäuer Büble Bier\, leckerem Wein und verschiedenen Street-Food-Snacks wie Burger oder Gerichte mit lokalem Bezug freuen. Die großartige\, idyllische Location direkt am Wald hat den Veranstalter-Verbund\, bestehend aus der Raketenklub GmbH und der Stadtleben GmbH\, zu diesem Event inspiriert. Ideal für gesellige Stunden mit Freunden und der Familie. \nDiverse Straßenkünstler werden für gute Stimmung und bunte Unterhaltung sorgen. Das Kinderland wird u.a. aus Holzspielen und kostenlosen Hüpfburgen bestehen\, die für Spiel und Spaß sorgen. \n“Wir freuen uns sehr auf die Event-Premiere in Oppenheim und möchten uns bereits jetzt bei allen Beteiligten\, insbesondere der Stadt\, für die gute Zusammenarbeit bedanken. Eine neue Veranstaltungsreihe ist in diesen dynamischen Zeiten keine Selbstverständlichkeit – umso schöner\, wenn es uns hier gelingt\, ein schönes Event für alle interessierten Besucher zu schaffen\, die uns gerne unterstützen möchten.”\, so Kai Kauermann\, Geschäftsführer Stadtleben GmbH. \nMission Genussreise & Freunde treffen – Das Konzept der rollenden Küchenkunst \nSchlemmen\, Staunen und Entdecken. Neben dem Konzept der Genussfestivals setzt die Stadtleben GmbH auch die bekannten Street Food Festivals in einem Radius von 100 Kilometern rund um Wiesbaden um: Das wortwörtliche Erfolgsrezept der Street Food Festivals aus Fast Casual Schweinereien\, klassischem Barbecue und vielem mehr wurde im Februar 2016 mit dem Tourismuspreis der Region Wiesbaden und Rheingau-Taunus ausgezeichnet. \nAlles Wichtige auf einen Blick: \nWann? \nFreitag\, den 11. September bis Sonntag\, den 13. September 2026 \nFreitag 16:00-23:00 Uhr \nSamstag. 14:00-23:00 Uhr \nSonntag 12:00- 20:00 Uhr \nWo? \nFestwiese Oppenheim
URL:https://street-food-market.de/event/oppenheimer-bierfest-mit-street-food-meile-2026/
LOCATION:Festwiese Oppenheim
CATEGORIES:Bier-Genuss-Festival,Street Food Meile
ATTACH;FMTTYPE=image/jpeg:https://street-food-market.de/wp-content/uploads/2025/07/20150905-044050-104815-scaled-lowres.jpg
END:VEVENT
BEGIN:VEVENT
DTSTART;VALUE=DATE:20260918
DTEND;VALUE=DATE:20260921
DTSTAMP:20260424T065344
CREATED:20260128T190812Z
LAST-MODIFIED:20260413T141213Z
UID:8611-1789689600-1789948799@street-food-market.de
SUMMARY:Groß-Gerauer Street Food Festival 2026
DESCRIPTION:Groß-Gerauer Street Food Festival 2026 \nInternationale Food Trucks und Stände // Im Herzen der Stadt // Eintritt frei \nWir kommen wieder: Am Wochenende von Freitag\, den 18.09.2026 bis Sonntag\, den 20.09.2026 machen unsere Food Trucks und Stände wieder Halt in Groß-Gerau auf dem Marktplatz und werden für ein genuss- und abwechslungsreiches Wochenende sorgen. Das Event findet in absolut zentraler Lage direkt in der Innenstadt statt. Parkplätze sind vorhanden und der Busbahnhof grenzt direkt an. \n  \nNeben saftigen Burgern aus hochwertigem Rindfleisch vom Feuerring warten auch moderne Foodtrends\, vegane und vegetarische Spezialitäten\, süße Sünden und vieles mehr auf die Besucher in Groß-Gerau. \n  \nBesonderes Highlight: Groß-Gerau wird zeitgleich wieder zum Hotspot für Autofans und Mobilitätsbegeisterte. Der Autosalon öffnet seine Tore – inklusive Oldtimer-Ausstellung auf dem Sandböhlplatz. Ideal\, um beide Veranstaltungen zu verbinden.  \nDie Stadtleben GmbH und die dazugehörigen Verbundpartner\, wie die Raketenklub GmbH freuen sich sehr auf dieses besondere Wochenende im Herzen Groß-Geraus voll guter Laune und köstlicher Snacks – und selbstverständlich ganz besonders auf die neugierigen Besucher. Für die kleinen Räuber wird es Spiel und Spaß im Kids Bereich geben. Live Musik verschiedener Straßenkünstler wird das Event stimmungsvoll abrunden. \n“Das wir diesen tollen Standort so regelmäßig bespielen können\, freut uns wirklich sehr. Ein großer Dank geht daher an die Stadt und die Anwohner für die tolle Zusammenarbeit. Wir freuen uns auf alle Besucher\, die uns bei unserem Vorhaben unterstützen.”\, so Kai Kauermann\, Geschäftsführer Stadtleben GmbH. \n  \nMission Genussreise & Freunde treffen – Das Konzept der rollenden Küchenkunst \n  \nSchlemmen\, Staunen und Entdecken. So lässt sich das ebenso simple wie geniale Konzept der Street Food Festival Reihe prägnant beschreiben\, die bereits seit dem Herbst 2015 kulinarisch interessierte Besucher jeden Alters und unterschiedlichster Herkunft an den verschiedensten Standorten in ihren Bann zieht.„Fine Dining“ trifft hier auf das klassische Barbecue\, vegane und vegetarische Spezialitäten auf „Fast Casual Schweinereien“. Dieses einzigartige kulinarische Konzept wurde im Februar 2016 mit dem Tourismuspreis der Region Wiesbaden und Rheingau-Taunus ausgezeichnet. \n  \nAlles Wichtige auf einen Blick  \n  \nWann? \nFreitag\, den 18.09.2026 bis Sonntag\, den 20.09.2026 \n  \nWo? \nMarktplatz\, 64521 Groß-Gerau  \n  \nFreitag 16:00 Uhr – 23:00 Uhr (Ende d. Musik\, Schließung Food Trucks – entspanntes Ausklingen)  \nSamstag 12:00 Uhr – 23:00 Uhr  (Ende d. Musik\, Schließung Food Trucks – entspanntes Ausklingen)  \nSonntag 12:00 Uhr – 20:00 Uhr
URL:https://street-food-market.de/event/gross-gerauer-street-food-festival-2026/
LOCATION:Marktplatz Groß-Gerau
CATEGORIES:Street Food Festivals
ATTACH;FMTTYPE=image/jpeg:https://street-food-market.de/wp-content/uploads/2025/06/483928-SF-Alzei.jpg
END:VEVENT
BEGIN:VEVENT
DTSTART;VALUE=DATE:20260918
DTEND;VALUE=DATE:20260921
DTSTAMP:20260424T065344
CREATED:20260128T191017Z
LAST-MODIFIED:20260128T191017Z
UID:8614-1789689600-1789948799@street-food-market.de
SUMMARY:Bad Kreuznacher Street Food Festival 2026
DESCRIPTION:Weitere Informationen folgen!
URL:https://street-food-market.de/event/bad-kreuznacher-street-food-festival-2026/
LOCATION:Kornmarkt Bad Kreuznach
CATEGORIES:Street Food Festivals
ATTACH;FMTTYPE=image/jpeg:https://street-food-market.de/wp-content/uploads/2025/06/294455-Streetfood_Mainz.jpg
END:VEVENT
BEGIN:VEVENT
DTSTART;VALUE=DATE:20260925
DTEND;VALUE=DATE:20260928
DTSTAMP:20260424T065344
CREATED:20260128T191219Z
LAST-MODIFIED:20260128T191219Z
UID:8617-1790294400-1790553599@street-food-market.de
SUMMARY:Eltviller Street Food Festival 2026
DESCRIPTION:Weitere Informationen folgen!
URL:https://street-food-market.de/event/eltviller-street-food-festival-2026/
LOCATION:P1 Parkhaus Kilianscenter
CATEGORIES:Street Food Festivals
ATTACH;FMTTYPE=image/jpeg:https://street-food-market.de/wp-content/uploads/2019/11/Sandwich.jpg
END:VEVENT
BEGIN:VEVENT
DTSTART;TZID=Europe/Berlin:20260925T160000
DTEND;TZID=Europe/Berlin:20260927T200000
DTSTAMP:20260424T065344
CREATED:20260316T200256Z
LAST-MODIFIED:20260413T141319Z
UID:8623-1790352000-1790539200@street-food-market.de
SUMMARY:Obernburger Street Food Festival 2026
DESCRIPTION:Obernburger Street Food Festival 2026 \nInternationale Food Trucks und Stände // Kinderland // Eintritt frei \nDer kulinarische Wanderzirkus mit Food Trucks und Ständen macht von Freitag\, den 25.09.2026 bis Sonntag\, den 27.09.2026 Halt in Obernburg und wird für ein genuss- und abwechslungsreiches Wochenende sorgen.  \nDie Stadtleben GmbH und die dazugehörigen Verbundpartner\, wie die Raketenklub GmbH\, freuen sich sehr auf dieses besondere Wochenende voll guter Laune und leckerem Essen samt buntem Rahmenprogramm und selbstverständlich ganz besonders auf die neugierigen Besucher. Für die kleinen Räuber wird es Spiel und Spaß im Kids-Bereich geben.  \n  \nNeben saftigen Burgern aus hochwertigem Rindfleisch warten auch moderne Foodtrends\, vegane und vegetarische Spezialitäten\, süße Sünden. \n  \nEin besonderer Dank geht an die Stadt\, die das Street Food Festival erst möglich macht. \n  \nMission Genussreise & Freunde treffen – Das Konzept der rollenden Küchenkunst \n  \nSchlemmen\, Staunen und Entdecken. So lässt sich das ebenso simple wie geniale Konzept der Street Food Festival Reihe prägnant beschreiben\, die bereits seit dem Herbst 2015 kulinarisch interessierte Besucher jeden Alters und unterschiedlichster Herkunft an den verschiedensten Standorten in ihren Bann zieht.„Fine Dining“ trifft hier auf das klassische Barbecue\, vegane und vegetarische Spezialitäten auf „Fast Casual Schweinereien“. Dieses einzigartige kulinarische Konzept wurde im Februar 2016 mit dem Tourismuspreis der Region Wiesbaden und Rheingau-Taunus ausgezeichnet. \n  \nAlles Wichtige auf einen Blick  \n  \nWann? \nFreitag\, den 25.09.2026 bis Sonntag\, den 27.09.2026  \n  \nWo? \n  \nFestplatz Obernburg \nFreitag ab 16:00 Uhr \nSamstag ab 14:00 Uhr \nSonntag ab 12:00 Uhr
URL:https://street-food-market.de/event/obernburger-street-food-festival-2026/
LOCATION:Festplatz Obernburg
CATEGORIES:Street Food Festivals
ATTACH;FMTTYPE=image/jpeg:https://street-food-market.de/wp-content/uploads/2022/04/20171008-164549-IMG_8718-1-scaled.jpg
END:VEVENT
BEGIN:VEVENT
DTSTART;VALUE=DATE:20260930
DTEND;VALUE=DATE:20261005
DTSTAMP:20260424T065344
CREATED:20260128T191414Z
LAST-MODIFIED:20260128T191414Z
UID:8620-1790726400-1791158399@street-food-market.de
SUMMARY:Hanauer Street Food Festival 2026
DESCRIPTION:Weitere Informationen folgen!
URL:https://street-food-market.de/event/hanauer-street-food-festival-2026/
LOCATION:Freiheitsplatz Hanau\, Freiheitsplatz Hanau
CATEGORIES:Street Food Festivals
ATTACH;FMTTYPE=image/jpeg:https://street-food-market.de/wp-content/uploads/2023/01/20170730-121538-IMGL0705-scaled.jpg
END:VEVENT
END:VCALENDAR