BEGIN:VCALENDAR
VERSION:2.0
PRODID:-//Street Food Festival &amp; Market - ECPv6.15.12.2//NONSGML v1.0//EN
CALSCALE:GREGORIAN
METHOD:PUBLISH
X-WR-CALNAME:Street Food Festival &amp; Market
X-ORIGINAL-URL:https://street-food-market.de
X-WR-CALDESC:Veranstaltungen für Street Food Festival &amp; Market
REFRESH-INTERVAL;VALUE=DURATION:PT1H
X-Robots-Tag:noindex
X-PUBLISHED-TTL:PT1H
BEGIN:VTIMEZONE
TZID:Europe/Berlin
BEGIN:DAYLIGHT
TZOFFSETFROM:+0100
TZOFFSETTO:+0200
TZNAME:CEST
DTSTART:20250330T010000
END:DAYLIGHT
BEGIN:STANDARD
TZOFFSETFROM:+0200
TZOFFSETTO:+0100
TZNAME:CET
DTSTART:20251026T010000
END:STANDARD
BEGIN:DAYLIGHT
TZOFFSETFROM:+0100
TZOFFSETTO:+0200
TZNAME:CEST
DTSTART:20260329T010000
END:DAYLIGHT
BEGIN:STANDARD
TZOFFSETFROM:+0200
TZOFFSETTO:+0100
TZNAME:CET
DTSTART:20261025T010000
END:STANDARD
BEGIN:DAYLIGHT
TZOFFSETFROM:+0100
TZOFFSETTO:+0200
TZNAME:CEST
DTSTART:20270328T010000
END:DAYLIGHT
BEGIN:STANDARD
TZOFFSETFROM:+0200
TZOFFSETTO:+0100
TZNAME:CET
DTSTART:20271031T010000
END:STANDARD
END:VTIMEZONE
BEGIN:VEVENT
DTSTART;VALUE=DATE:20260731
DTEND;VALUE=DATE:20260803
DTSTAMP:20260424T055057
CREATED:20260128T183758Z
LAST-MODIFIED:20260413T140223Z
UID:8582-1785456000-1785715199@street-food-market.de
SUMMARY:Langenselbolder Street Food Festival 2026
DESCRIPTION:Langenselbolder Street Food Festival 2026 \nInternationale Food Trucks und Stände // Park und Schloss-Kulisse // Eintritt frei \nWir kommen wieder! Das Konzept der rollenden Küchenkunst macht am Wochenende von Freitag\, den 31.07.2026 bis Sonntag\, den 02.08.2026 Halt in Langenselbold am Schloss und wird für ein genuss- und abwechslungsreiches Wochenende sorgen. \nDie Stadtleben GmbH und die dazugehörigen Verbundpartner\, wie die Raketenklub GmbH\, freuen sich sehr auf dieses besondere Wochenende in Langenselbold voll guter Laune\, leckerem Essen & coolen Drinks samt buntem Rahmenprogramm und selbstverständlich ganz besonders auf die neugierigen Besucher.  \nDas Langenselbolder Schloss aus dem 18. Jahrhundert und der großzügige Schlosspark mit 6500 qm und alten Bäumen\, bilden hier die perfekte Kulisse. Auch für die kleinen Räuber wird es auf der Wiese bunte Unterhaltung im Kids Bereich geben. \n“Wir freuen uns sehr darauf\, diesen großartigen Standort wieder mit Leckerem vom Grill\, Snacks aus aller Welt und coolen Drinks bespielen zu können. Für ausreichend Schattenplätze und Sitzmöglichkeiten wird gesorgt sein!”\, so Kai Kauermann\, Geschäftsführer Stadtleben GmbH. \nEin besonderer Dank geht an die Stadt\, die uns mit offenen Armen empfängt und uns bei der Logistik unterstützt. \nMission Genussreise & Freunde treffen – Das Konzept der rollenden Küchenkunst \nSchlemmen\, Staunen und Entdecken. So lässt sich das ebenso simple wie geniale Konzept der Street Food Festival Reihe prägnant beschreiben\, die bereits seit dem Herbst 2015 kulinarisch interessierte Besucher jeden Alters und unterschiedlichster Herkunft an den verschiedensten Standorten in ihren Bann zieht.„Fine Dining“ trifft hier auf das klassische Barbecue\, vegane und vegetarische Spezialitäten auf „Fast Casual Schweinereien“. Dieses einzigartige kulinarische Konzept wurde im Februar 2016 mit dem Tourismuspreis der Region Wiesbaden und Rheingau-Taunus ausgezeichnet. \nAlles Wichtige auf einen Blick  \n  \nWann? \nFreitag\, den 31.07.2026 bis Sonntag\, den 02.08.2026 \n  \nWo? \nSchlosspark\, 63505 Langenselbold \nFreitag 16:00 Uhr – 23:00 Uhr (Ende d. Musik\, Schließung Food Trucks – entspanntes Ausklingen)  \nSamstag 14:00 Uhr – 23:00 Uhr  (Ende d. Musik\, Schließung Food Trucks – entspanntes Ausklingen)  \nSonntag 12:00 Uhr – 20:00 Uhr \n 
URL:https://street-food-market.de/event/langenselbolder-street-food-festival-2026/
LOCATION:Schlosspark Langenselbold
CATEGORIES:Street Food Festivals
ATTACH;FMTTYPE=image/jpeg:https://street-food-market.de/wp-content/uploads/2022/11/IMG_0179-scaled.jpg
END:VEVENT
BEGIN:VEVENT
DTSTART;VALUE=DATE:20260804
DTEND;VALUE=DATE:20260810
DTSTAMP:20260424T055057
CREATED:20260128T184041Z
LAST-MODIFIED:20260413T140308Z
UID:8585-1785801600-1786319999@street-food-market.de
SUMMARY:Bad Dürkheimer Street Food Festival 2026
DESCRIPTION:Bad Dürkheimer Street Food Festival 2026 \nInternationale Food Trucks und Stände // Saline // Eintritt frei \nWir kommen wieder! Unsere Food Trucks und Stände mit internationalen Köstlichkeiten machen in diesem Jahr an gleich sechs Tagen von Dienstag\, den 04.08.2026 bis Sonntag\, den 09.08.2026 Halt in Bad Dürkheim an der Saline und werden für genuss- und abwechslungsreiche Tage sorgen. Das angenehm kühle Klima (auch an hochsommerlichen Tagen) in Kombination mit internationalem Street Food und bunter Unterhaltung hat bereits im vergangenen Jahr für viel Begeisterung bei den Besuchern gesorgt. \nDie Stadtleben GmbH und die dazugehörigen Verbundpartner\, wie die Raketenklub GmbH\, freuen sich sehr auf dieses besondere Wochenende in Bad Dürkheim voll guter Laune\, leckerem Essen & coolen Drinks samt buntem Rahmenprogramm und selbstverständlich ganz besonders auf die hungrigen Besucher. Für die kleinen Räuber wird es auf der Wiese bunte Unterhaltung im Kids Bereich und auf dem angrenzenden Wasserspielplatz geben. \nUnsere Empfehlung für Einheimische und Touristen: Den Street Food Besuch mit einem Stadtbummel verbinden. Ausreichend Parkmöglichkeiten sind in der Nähe vorhanden. \nSchon gewusst? Ein Besuch in der Saline wirkt wohltuend auf Haut und Atemwege und kann die natürlichen Abwehrkräfte stärken. Wertvolle Mineralien und Spurenelemente werden mit jedem Atemzug inhaliert. \n“Wir freuen uns nun zum vierten Mal\, diesen besonderen\, zentralen Standort an der Saline bespielen zu können. Das Event wurde nun nochmal um einen Tag verlängert – wir freuen uns auf viele interessierte und hungrige Besucher.”\, so Kai Kauermann\, Geschäftsführer Stadtleben GmbH. \nEin besonderer Dank geht an die Stadt\, die uns mit offenen Armen empfängt und uns bei der Logistik unterstützt. \nMission Genussreise & Freunde treffen – Das Konzept der rollenden Küchenkunst \nSchlemmen\, Staunen und Entdecken. So lässt sich das ebenso simple wie geniale Konzept der Street Food Festival Reihe prägnant beschreiben\, die bereits seit dem Herbst 2015 kulinarisch interessierte Besucher jeden Alters und unterschiedlichster Herkunft an den verschiedensten Standorten in ihren Bann zieht.„Fine Dining“ trifft hier auf das klassische Barbecue\, vegane und vegetarische Spezialitäten auf „Fast Casual Schweinereien“. Dieses einzigartige kulinarische Konzept wurde im Februar 2016 mit dem Tourismuspreis der Region Wiesbaden und Rheingau-Taunus ausgezeichnet. \nAlles Wichtige auf einen Blick  \nWann? \nDienstag\, den 04.08.2026 bis Sonntag\, den 09.08.2026 \nWo? \nFlohmarktgelände an der Saline\, 67098 Bad Dürkheim  \nDienstag ab 14:00 Uhr \nMittwoch ab 14:00 Uhr  \nDonnerstag ab 14:00 Uhr \nFreitag ab 14:00 Uhr – 23:00 Uhr (Ende d. Musik\, Schließung Food Trucks – entspanntes Ausklingen)  \nSamstag 11:00 Uhr – 23:00 Uhr  (Ende d. Musik\, Schließung Food Trucks – entspanntes Ausklingen)  \nSonntag 12:00 Uhr – 20:00 Uhr \n 
URL:https://street-food-market.de/event/bad-duerkheimer-street-food-festival-2026/
LOCATION:Parkplatz an der Saline (Flohmarktgelände)
CATEGORIES:Street Food Festivals
ATTACH;FMTTYPE=image/jpeg:https://street-food-market.de/wp-content/uploads/2020/04/Rüdesheim.jpg
END:VEVENT
BEGIN:VEVENT
DTSTART;VALUE=DATE:20260807
DTEND;VALUE=DATE:20260810
DTSTAMP:20260424T055057
CREATED:20260128T184913Z
LAST-MODIFIED:20260128T184913Z
UID:8588-1786060800-1786319999@street-food-market.de
SUMMARY:Bad Vilbeler Street Food Festival 2026
DESCRIPTION:Weitere Informationen folgen!
URL:https://street-food-market.de/event/bad-vilbeler-street-food-festival-2026/
LOCATION:Dortelweiler Platz
CATEGORIES:Street Food Festivals
ATTACH;FMTTYPE=image/jpeg:https://street-food-market.de/wp-content/uploads/2025/06/326221-Streetfood_Hanau_WaNiKi.jpg
END:VEVENT
BEGIN:VEVENT
DTSTART;VALUE=DATE:20260813
DTEND;VALUE=DATE:20260817
DTSTAMP:20260424T055057
CREATED:20260128T185253Z
LAST-MODIFIED:20260128T185253Z
UID:8594-1786579200-1786924799@street-food-market.de
SUMMARY:Street Food Festival Neuwied 2026
DESCRIPTION:Weitere Informationen folgen!
URL:https://street-food-market.de/event/street-food-festival-neuwied-2026/
LOCATION:Marktplatz Neuwied
CATEGORIES:Street Food Festivals
ATTACH;FMTTYPE=image/jpeg:https://street-food-market.de/wp-content/uploads/2025/06/023915-SF-Alzei.jpg
END:VEVENT
BEGIN:VEVENT
DTSTART;VALUE=DATE:20260814
DTEND;VALUE=DATE:20260817
DTSTAMP:20260424T055057
CREATED:20260128T185116Z
LAST-MODIFIED:20260413T140435Z
UID:8591-1786665600-1786924799@street-food-market.de
SUMMARY:Dieburger Wein und Genuss Festival 2026
DESCRIPTION:Dieburger Wein und Genuss Festival 2026 \nInternationale Food Trucks und Stände // Park Nähe Marktplatz// Eintritt frei \nGenussvolles in Dieburg – Von Freitag\, den 14.08.2026 bis Sonntag\, den 16.08.2026 macht das Konzept der rollenden Küchenkunst im Rahmen des Wein und Genuss Festivals Halt im Mittelzentrum Südhessens. Die Besucher dürfen sich auf eine kleine aber feine Auswahl an Weinständen im Weindorf in Kombination mit Leckereien der Food Trucks auf der Genussmeile freuen. Der wunderschöne Park mit dem nahegelegenen Schloss bietet dabei die ideale Kulisse zum Schlemmen\, Flanieren und Erkunden. Ein Besuch lässt sich dabei so auch toll mit einem Spaziergang in die Dieburger Innenstadt und einem Bummel über den Flohmarkt am Samstag verbinden.  Parkplätze stehen dabei ausreichend in der Nähe zur Verfügung. Der Eintritt ist frei! \n  \nDie Stadtleben GmbH und die dazugehörigen Verbundpartner wie die Raketenklub GmbH freuen sich sehr auf das Wochenende im schönen Dieburg – im Park Nähe des Marktplatzes. Das besondere Ambiente lädt zum Genießen mit Freunden und der Familie ein. \n  \nFür die kleinen Räuber wird es einen Kidsbereich geben. In Planung sind weiterhin ein italienischer Abend und der hessische Frühschoppen.  \n  \n“Ein großer Dank geht an die Stadt\, die tollen Besucher\, die Betreiber sowie an die Anwohner für ihre Kulanz und den offenen Empfang. Ohne diese Säulen hätten wir keine Chance\, in diesen dynamischen Zeiten ein so tolles Event umzusetzen.”\, so Kai Kauermann\, Geschäftsführer Stadtleben GmbH. \n  \nMission Genussreise & Freunde treffen – Das Konzept der rollenden Küchenkunst \n  \nSchlemmen\, Staunen und Entdecken. Neben dem Konzept der Genussfestivals setzt die Stadtleben GmbH auch die bekannten Street Food Festivals in einem Radius von 100 Kilometern rund um Wiesbaden um: Das wortwörtliche Erfolgsrezept der Street Food Festivals aus Fast Casual Schweinereien\, klassischem Barbecue und vielem mehr wurde im Februar 2016 mit dem Tourismuspreis der Region Wiesbaden und Rheingau-Taunus ausgezeichnet. \n  \nAlles Wichtige auf einen Blick  \n  \nWann?. \nFreitag\, den 14.08.2026 bis Sonntag\, den 16.08.2026 \n  \nWo? \n64807 Dieburg\, Schloss Fechenbach\, Fechenbachpark \n  \nFreitag 16:00 Uhr – 24:00 Uhr (Schließung Food Trucks – entspanntes Ausklingen)  \nSamstag 14:00 Uhr – 24:00 Uhr  (Schließung Food Trucks – entspanntes Ausklingen)  \nSonntag 12:00 Uhr – 20:00 Uhr \n 
URL:https://street-food-market.de/event/dieburger-wein-und-genuss-festival-2026/
LOCATION:Schloss Fechenbach
CATEGORIES:Genuss Festival,Wein-Genuss-Festival
ATTACH;FMTTYPE=image/jpeg:https://street-food-market.de/wp-content/uploads/2025/07/20150905-044050-104815-scaled-lowres.jpg
END:VEVENT
BEGIN:VEVENT
DTSTART;VALUE=DATE:20260821
DTEND;VALUE=DATE:20260824
DTSTAMP:20260424T055057
CREATED:20260128T185523Z
LAST-MODIFIED:20260413T140540Z
UID:8597-1787270400-1787529599@street-food-market.de
SUMMARY:Westhofener Markt mit Street Food Meile 2026
DESCRIPTION:Westhofener Markt mit Street Food Meile  \nLeckere Snacks aus aller Welt// Klein aber fein // Eintritt frei \n  \nVon Freitag\, den 21.08.2026 bis Sonntag\, den 23.08.2026\, findet der Westhofener Markt statt. Für ein abwechslungsreiches kulinarisches Angebot wird in diesem Jahr die kleine aber feine Street Food Meile mit Köstlichkeiten aus aller Welt sorgen\, die das bestehende Event im rheinhessischen Westhofen ergänzt. Ein Wochenende voller Kunst\, toller Musik\, gutem Wein und köstlichem Essen.  \n  \nDas kulinarische Angebot reicht von saftigen Burgern über süße Waffeln bis zu veganen Trendgerichten. Hier ist für jeden Geschmack und jeden Geldbeutel das passende Gericht dabei. Ideal\, um über den traditionsträchtigen Markt zu schlendern und im Anschluss ein leckeres Getränk und gute Snacks mit Freunden und der Familie zu genießen.  \n  \nFür bunte Unterhaltung ist gesorgt: Am Freitag und Samstag wird ein DJ für die passenden Vibes sorgen. Am Sonntag werden regionale Künstler vor Ort sein.  \n  \nDas exakte kulinarische Angebot wird noch bekannt gegeben – sicher ist aber\, dass hier für jeden Geschmack der passende Snack dabei ist.  \n  \nDie Stadtleben GmbH und die dazugehörigen Verbundpartner\, wie die Raketenklub GmbH\, freuen sich sehr auf die Genuss-Tage im schönenWesthofen. \n  \nEin besonderer Dank geht bereits jetzt an die Stadt und die Anwohner\, die uns mit offenen Armen empfangen. \n  \n„Wir freuen uns sehr darauf\, diesen Standort zum zweiten Mal zu bespielen. In diesen dynamischen Zeiten ist das absolut keine Selbstverständlichkeit und geht nur mit allen Beteiligten zusammen. Der Westhofener Markt ist ein tolles Event\, das wir nun mit unserer Street Food Meile erweitern dürfen und definitiv einen Besuch wert.”\, Kai Kauermann\, Geschäftsführer Stadtleben GmbH. \n  \nAlles Wichtige auf einen Blick  \n  \nWann? \nFreitag\, den 21.08.2026 bis Sonntag\, den 23.08.2026 \n  \nWo? \nMarktplatz Westhofen \n 
URL:https://street-food-market.de/event/westhofener-markt-mit-street-food-meile-2026/
LOCATION:Marktplatz Westhofen
CATEGORIES:Sonderevents,Street Food Meile
ATTACH;FMTTYPE=image/jpeg:https://street-food-market.de/wp-content/uploads/2025/06/006218-Streetfood_Hanau_WaNiKi.jpg
END:VEVENT
BEGIN:VEVENT
DTSTART;VALUE=DATE:20260828
DTEND;VALUE=DATE:20260831
DTSTAMP:20260424T055057
CREATED:20260128T185730Z
LAST-MODIFIED:20260413T140637Z
UID:8599-1787875200-1788134399@street-food-market.de
SUMMARY:Rodgauer Wein und Genuss Festival 2026
DESCRIPTION:Rodgauer Wein und Genuss Festival 2026 \nBunte Unterhaltung // feine Weine und Leckeres // Im Herzen der Stadt \n  \nWir kommen wieder! Von Freitag\, den 28.08.2026 bis Sonntag\, den 30.08.2026 kehrt die Eventreihe rund um das Wein und Genuss Festival zurück ins hessische Rodgau. Die Besucher dürfen sich auf einen schönen Mix aus Street Food Ständen\, den ansässigen Locals – wie die Eisdiele –  und auf bekannte Klassiker anderer Weinfeste freuen. \n  \nDie Straßenkünstler-Bühne mit Walking Acts wird für bunte Unterhaltung auf dem Puiseauxplatz sorgen! An diesem langen Wochenende laden wir zum gemeinsamen Schlemmen und Genießen mit Freunden und der Familie ein. Der Eintritt ist frei! \n  \nDie Stadtleben GmbH und die dazugehörigen Verbundpartner wie die Raketenklub GmbH\, freuen sich sehr auf gleich vier Tage im schönen Rodgau mit Leckerem vom Grill\, veganen Köstlichkeiten und süßen Neukreationen.  \n  \n“Wir freuen uns sehr\, dass wir die Veranstaltung trotz der dynamischen Zeiten ausrichten können und bedanken uns herzlich bei allen Besuchern\, den Stadtwerken und weiteren Sponsoren für die großartige Zusammenarbeit und das Verständnis. In diesen Zeiten keine Selbstverständlichkeit.”\, so Kai Kauermann\, Geschäftsführer Stadtleben GmbH. \n  \nMission Genussreise & Freunde treffen – Das Konzept der rollenden Küchenkunst \n  \nSchlemmen\, Staunen und Entdecken. Neben dem Konzept der Genussfestivals setzt die Stadtleben GmbH auch die bekannten Street Food Festivals in einem Radius von 100 Kilometern rund um Wiesbaden um: Das wortwörtliche Erfolgsrezept der Street Food Festivals aus Fast Casual Schweinereien\, klassischem Barbecue und vielem mehr wurde im Februar 2016 mit dem Tourismuspreis der Region Wiesbaden und Rheingau-Taunus ausgezeichnet. \n  \nAlles Wichtige auf einen Blick  \n  \nWann? \nFreitag\, den 28.08.2026 bis Sonntag\, den 30.08.2026 \n  \nWo? \nPuiseauxplatz\, 63110 Rodgau \n  \nFreitag 16:00 Uhr – 24:00 Uhr (Schließung Food Trucks – entspanntes Ausklingen)  \nSamstag 16:00 Uhr – 24:00 Uhr  (Schließung Food Trucks – entspanntes Ausklingen)  \nSonntag 12:00 Uhr – 20:00 Uhr  (Schließung Food Trucks – entspanntes Ausklingen)  \n 
URL:https://street-food-market.de/event/rodgauer-wein-und-genuss-festival-2026/
LOCATION:Puiseauxplatz Nieder-Roden
CATEGORIES:Bier-Genuss-Festival,Wein-Genuss-Festival
ATTACH;FMTTYPE=image/jpeg:https://street-food-market.de/wp-content/uploads/2025/06/546255-Streetfood_Hanau_WaNiKi.jpg
END:VEVENT
END:VCALENDAR