BEGIN:VCALENDAR
VERSION:2.0
PRODID:-//Street Food Festival &amp; Market - ECPv6.15.12.2//NONSGML v1.0//EN
CALSCALE:GREGORIAN
METHOD:PUBLISH
X-WR-CALNAME:Street Food Festival &amp; Market
X-ORIGINAL-URL:https://street-food-market.de
X-WR-CALDESC:Veranstaltungen für Street Food Festival &amp; Market
REFRESH-INTERVAL;VALUE=DURATION:PT1H
X-Robots-Tag:noindex
X-PUBLISHED-TTL:PT1H
BEGIN:VTIMEZONE
TZID:Europe/Berlin
BEGIN:DAYLIGHT
TZOFFSETFROM:+0100
TZOFFSETTO:+0200
TZNAME:CEST
DTSTART:20240331T010000
END:DAYLIGHT
BEGIN:STANDARD
TZOFFSETFROM:+0200
TZOFFSETTO:+0100
TZNAME:CET
DTSTART:20241027T010000
END:STANDARD
BEGIN:DAYLIGHT
TZOFFSETFROM:+0100
TZOFFSETTO:+0200
TZNAME:CEST
DTSTART:20250330T010000
END:DAYLIGHT
BEGIN:STANDARD
TZOFFSETFROM:+0200
TZOFFSETTO:+0100
TZNAME:CET
DTSTART:20251026T010000
END:STANDARD
BEGIN:DAYLIGHT
TZOFFSETFROM:+0100
TZOFFSETTO:+0200
TZNAME:CEST
DTSTART:20260329T010000
END:DAYLIGHT
BEGIN:STANDARD
TZOFFSETFROM:+0200
TZOFFSETTO:+0100
TZNAME:CET
DTSTART:20261025T010000
END:STANDARD
END:VTIMEZONE
BEGIN:VEVENT
DTSTART;VALUE=DATE:20250801
DTEND;VALUE=DATE:20250804
DTSTAMP:20260423T212631
CREATED:20241124T081908Z
LAST-MODIFIED:20241222T111135Z
UID:7610-1754006400-1754265599@street-food-market.de
SUMMARY:📅Langenselbold🍔 Street Food Festival 2025
DESCRIPTION:Langenselbolder Street Food Festival 2025 \nInternationale Food Trucks und Stände // Park- und Schloss-Kulisse // Eintritt frei \nWir kommen zurück: Der „gute Geschmack“ macht am Wochenende von Freitag\, den 01.08.2025 bis Sonntag\, den 03.08.2025 Halt in Langenselbold am Schloss und wird für ein genuss- und abwechslungsreiches Wochenende sorgen. \nDie Stadtleben GmbH und die dazugehörigen Verbundpartner\, wie die Raketenklub GmbH\, freuen sich sehr auf dieses besondere Wochenende im Main-Kinzig-Kreis voll guter Laune\, leckerem Essen & coolen Drinks. Das Langenselbolder Schloss aus dem 18. Jahrhundert und der großzügige Schlosspark mit 6500 qm und alten Bäumen\, bilden hier die perfekte Kulisse. Auch für die kleinen Räuber wird es auf der Wiese bunte Unterhaltung unter den Bäumen geben: Mit dir sind u.a. Fußball-Dart\, Hüpfburgen\, Holzspiele\, ein Karussell und vieles mehr.  \n“Nachdem die Veranstaltung in den letzten Jahren so gut angenommen wurde\, freuen wir uns darauf\, diesen einzigartigen Standort wieder kulinarisch bespielen zu können und auf ein großartiges Wochenende mit Leckerem vom Grill\, Snacks aus aller Welt und coolen Drinks. Für ausreichend Schattenplätze und Sitzmöglichkeiten wird gesorgt sein!”\, so Kai Kauermann\, Geschäftsführer Stadtleben GmbH. \nEin besonderer Dank geht an die Stadt und insbesondere an das Kulturmanagement der Stadt Langenselbold sowie die Anwohner\, Sponsoren und Partner für die großartige Zusammenarbeit und das Verständnis. Ohne die tatkräftige Unterstützung aller Beteiligten wäre das Event in diesen dynamischen Zeiten und aufgrund der gestiegenen Kosten für Strom\, Personal und die Locationmiete nicht möglich – und das ohne Eintrittspreise. \nMission Genussreise & Freunde treffen – Das Konzept der rollenden Küchenkunst \nSchlemmen\, Staunen und Entdecken. So lässt sich das ebenso simple wie geniale Konzept der Street Food Festival Reihe prägnant beschreiben\, die bereits seit dem Herbst 2015 kulinarisch interessierte Besucher jeden Alters und unterschiedlichster Herkunft an den verschiedensten Standorten in ihren Bann zieht.„Fine Dining“ trifft hier auf das klassische Barbecue\, vegane und vegetarische Spezialitäten auf „Fast Casual Schweinereien“. Dieses einzigartige kulinarische Konzept wurde im Februar 2016 mit dem Tourismuspreis der Region Wiesbaden und Rheingau-Taunus ausgezeichnet. \nAlles Wichtige auf einen Blick  \nWann? \nFreitag\, den  01.08.2025 bis Sonntag\, den 03.08.2025 \nWo? \nSchlosspark\, 63505 Langenselbold \nFreitag 16:00 Uhr – 22:00 Uhr (Ende d. Musik\, Schließung Food Trucks – entspanntes\, anwohnerfreundliches Ausklingen)  \nSamstag 12:00 Uhr – 22:00 Uhr  (Ende d. Musik\, Schließung Food Trucks – entspanntes\, anwohnerfreundliches Ausklingen)  \nSonntag 12:00 Uhr – 20:00 Uhr
URL:https://street-food-market.de/event/%f0%9f%93%85langenselbold%f0%9f%8d%94-street-food-festival/
LOCATION:Langenselbold – Street Food Festival\, Schlosspark\, 63505 Langenselbold\, Hessen\, Deutschland
CATEGORIES:Street Food Festivals
ATTACH;FMTTYPE=image/jpeg:https://street-food-market.de/wp-content/uploads/2017/11/20161003-114345-178556-min.jpg
END:VEVENT
BEGIN:VEVENT
DTSTART;VALUE=DATE:20250806
DTEND;VALUE=DATE:20250811
DTSTAMP:20260423T212631
CREATED:20241209T150218Z
LAST-MODIFIED:20250305T181135Z
UID:7615-1754438400-1754870399@street-food-market.de
SUMMARY:📅Bad Dürkheim🍔 Street Food Festival
DESCRIPTION:Bad Dürkheimer Street Food Festival 2025 \nInternationale Food Trucks und Stände // Saline // Eintritt frei \nWir kommen wieder! Unsere Food Trucks und Stände mit internationalen Köstlichkeiten machen in diesem Jahr an gleich fünf Tagen von Mittwoch\, den 06.08.2025 bis Sonntag\, den 10.08.2025 Halt in Bad Dürkheim an der Saline und werden für genuss- und abwechslungsreiche Tage sorgen. Das angenehm kühle Klima (auch an hochsommerlichen Tagen) in Kombination mit internationalem Street Food und bunter Unterhaltung hat bereits im vergangenen Jahr für viel Begeisterung bei den Besuchern gesorgt. \nDie Stadtleben GmbH und die dazugehörigen Verbundpartner\, wie die Raketenklub GmbH\, freuen sich sehr auf dieses besondere Wochenende in Bad Dürkheim voll guter Laune\, leckerem Essen & coolen Drinks samt buntem Rahmenprogramm und selbstverständlich ganz besonders auf die hungrigen Besucher. Für die kleinen Räuber wird es auf der Wiese bunte Unterhaltung im Kids Bereich und auf dem angrenzenden Wasserspielplatz geben. \nUnsere Empfehlung für Einheimische und Touristen: Den Street Food Besuch mit einem Stadtbummel verbinden. Ausreichend Parkmöglichkeiten sind in der Nähe vorhanden. \nSchon gewusst? Ein Besuch in der Saline wirkt wohltuend auf Haut und Atemwege und kann die natürlichen Abwehrkräfte stärken. Wertvolle Mineralien und Spurenelemente werden mit jedem Atemzug inhaliert. \n“Wir freuen uns nun zum dritten Mal\, diesen besonderen\, zentralen Standort an der Saline bespielen zu können. Das Event wurde nun nochmal um einen Tag verlängert – wir freuen uns auf viele interessierte und hungrige Besucher.”\, so Kai Kauermann\, Geschäftsführer Stadtleben GmbH. \nEin besonderer Dank geht an die Stadt\, die uns mit offenen Armen empfängt und uns bei der Logistik unterstützt. \nMission Genussreise & Freunde treffen – Das Konzept der rollenden Küchenkunst \nSchlemmen\, Staunen und Entdecken. So lässt sich das ebenso simple wie geniale Konzept der Street Food Festival Reihe prägnant beschreiben\, die bereits seit dem Herbst 2015 kulinarisch interessierte Besucher jeden Alters und unterschiedlichster Herkunft an den verschiedensten Standorten in ihren Bann zieht.„Fine Dining“ trifft hier auf das klassische Barbecue\, vegane und vegetarische Spezialitäten auf „Fast Casual Schweinereien“. Dieses einzigartige kulinarische Konzept wurde im Februar 2016 mit dem Tourismuspreis der Region Wiesbaden und Rheingau-Taunus ausgezeichnet. \nAlles Wichtige auf einen Blick  \nWann? \nMittwoch\, den 06.08.2025 bis Sonntag\, den 10.08.2025 \nWo? \nFlohmarktgelände an der Saline\, 67098 Bad Dürkheim  \nMittwoch ab 16:00 Uhr  \nDonnerstag ab 16:00 Uhr \nFreitag ab 16:00 Uhr – 23:00 Uhr (Ende d. Musik\, Schließung Food Trucks – entspanntes Ausklingen)  \nSamstag 12:00 Uhr – 23:00 Uhr  (Ende d. Musik\, Schließung Food Trucks – entspanntes Ausklingen)  \nSonntag 12:00 Uhr – 20:00 Uhr \n 
URL:https://street-food-market.de/event/%f0%9f%93%85bad-duerkheim%f0%9f%8d%94-street-food-festival/
LOCATION:Bad Dürkheim\, Flohmarktgelände an der Saline\, 67098\, Bad Dürkheim\, Hessen
CATEGORIES:Street Food Festivals
ATTACH;FMTTYPE=image/jpeg:https://street-food-market.de/wp-content/uploads/2015/10/3380746.jpg
END:VEVENT
BEGIN:VEVENT
DTSTART;VALUE=DATE:20250815
DTEND;VALUE=DATE:20250818
DTSTAMP:20260423T212631
CREATED:20241124T082000Z
LAST-MODIFIED:20241222T111520Z
UID:7613-1755216000-1755475199@street-food-market.de
SUMMARY:📅Frankenthal🍔Bier\, Wein & Genuss Festival 2025
DESCRIPTION:Weitere Informationen folgen! \n 
URL:https://street-food-market.de/event/%f0%9f%93%85frankenthal%f0%9f%8d%94bier-wein-genuss-festival/
LOCATION:Frankenthal\, Rathausplatz\, 67227\, Frankenthal\, Rheinland-Pfalz\, Deutschland
CATEGORIES:Bier-Genuss-Festival,Wein-Genuss-Festival
ATTACH;FMTTYPE=image/jpeg:https://street-food-market.de/wp-content/uploads/2023/01/20170730-132150-IMGL0840-scaled.jpg
END:VEVENT
BEGIN:VEVENT
DTSTART;VALUE=DATE:20250815
DTEND;VALUE=DATE:20250818
DTSTAMP:20260423T212631
CREATED:20241124T082155Z
LAST-MODIFIED:20250305T181404Z
UID:7622-1755216000-1755475199@street-food-market.de
SUMMARY:📅Dieburg🍔 Wein & Genuss Festival
DESCRIPTION:Wein und Genuss Festival Dieburg 2025 \nInternationale Food Trucks und Stände // Park Nähe Marktplatz// Eintritt frei \n \nWir kommen wieder – Von Freitag\, den 15.08.2025 bis Sonntag\, den 17.08.2025 macht das Konzept der rollenden Küchenkuns im Mittelzentrum Südhessens. Die Besucher dürfen sich auf eine kleine aber feine Auswahl an Weinständen im Weindorf in Kombination mit Leckereien der Food Trucks auf der Genussmeile freuen. Der wunderschöne Park mit dem nahegelegenen Schloss bietet dabei die ideale Kulisse zum Schlemmen\, Flanieren und Erkunden. Der Eintritt ist frei! \n  \nDie Stadtleben GmbH und die dazugehörigen Verbundpartner wie die Raketenklub GmbH freuen sich sehr auf das Wochenende im schönen Dieburg. Das besondere Ambiente des Schlossparks lädt zum Genießen mit Freunden und der Familie ein – genügend Schattenplätze inklusive.  \n  \nFür die kleinen Räuber wird es einen Kidsbereich geben.  \n  \n“Ein großer Dank geht an die Stadt\, die tollen Besucher\, die Betreiber und Parkplatzeigentümer sowie an die Anwohner für ihre Kulanz und den offenen Empfang. Ohne dieses Fundament hätten wir das Event in diesem Jahr nicht fortsetzen können. Umso mehr freuen wir uns\, wieder einen Platz zu schaffen\, an dem sich Dieburger und interessierte Besucher aus dem Umland treffen und schlemmen können.”\, so Kai Kauermann\, Geschäftsführer Stadtleben GmbH. \n  \nMission Genussreise & Freunde treffen – Das Konzept der rollenden Küchenkunst \n  \nSchlemmen\, Staunen und Entdecken. Neben dem Konzept der Genussfestivals setzt die Stadtleben GmbH auch die bekannten Street Food Festivals in einem Radius von 100 Kilometern rund um Wiesbaden um: Das wortwörtliche Erfolgsrezept der Street Food Festivals aus Fast Casual Schweinereien\, klassischem Barbecue und vielem mehr wurde im Februar 2016 mit dem Tourismuspreis der Region Wiesbaden und Rheingau-Taunus ausgezeichnet. \n  \nAlles Wichtige auf einen Blick \nWann?. \nFreitag\, den 15.08.2025 bis Sonntag\, den 17.08.2025 \nWo? \n64807 Dieburg\, Schloss Fechenbach / Fechenbachpark \n  \nFreitag 16:00 Uhr – 24:00 Uhr (Schließung Food Trucks – entspanntes Ausklingen) \nSamstag 14:00 Uhr – 24:00 Uhr (Schließung Food Trucks – entspanntes Ausklingen) \nSonntag 12:00 Uhr – 20:00 Uhr \n  \n 
URL:https://street-food-market.de/event/%f0%9f%93%85dieburg%f0%9f%8d%94-wein-genuss-festival/
LOCATION:Dieburg\, Schlosspark Fechenbach\, 64807. Dieburg\, Hessen\, Deutschland
CATEGORIES:Wein-Genuss-Festival
ATTACH;FMTTYPE=image/jpeg:https://street-food-market.de/wp-content/uploads/2019/11/ReisgerichtJPG.jpg
END:VEVENT
BEGIN:VEVENT
DTSTART;TZID=Europe/Berlin:20250822T160000
DTEND;TZID=Europe/Berlin:20250824T200000
DTSTAMP:20260423T212631
CREATED:20241222T111857Z
LAST-MODIFIED:20250330T155404Z
UID:7901-1755878400-1756065600@street-food-market.de
SUMMARY:📅Westhofener Markt mit Street-Food-Meile 2025🍔
DESCRIPTION:Westhofener Markt mit Street Food Meile  \nLeckere Snacks aus aller Welt// Klein aber fein // Eintritt frei \nVon Freitag\, den 22.08.2025 bis Sonntag\, den 24.08.2025\, findet der Westhofener Markt statt. Für ein abwechslungsreiches kulinarisches Angebot wird in diesem Jahr die kleine aber feine Street Food Meile mit Köstlichkeiten aus aller Welt sorgen\, die das bestehende Event im rheinhessischen Westhofen ergänzt. Ein Wochenende voller Kunst\, toller Musik\, gutem Wein und köstlichem Essen.  \nDas kulinarische Angebot reicht von saftigen Burgern über süße Waffeln bis zu veganen Trendgerichten. Hier ist für jeden Geschmack und jeden Geldbeutel das passende Gericht dabei. Ideal\, um über den traditionsträchtigen Markt zu schlendern und im Anschluss ein leckeres Getränk und gute Snacks mit Freunden und der Familie zu genießen.  \nDas exakte kulinarische Angebot wird noch bekannt gegeben – sicher ist aber\, dass hier für jeden Geschmack der passende Snack dabei ist.  \nLive-Musik\, einen kleinen Entdeckermarkt\, die beliebte Wingertsheisjerwanderung und natürlich den großartigen Wein Rheinhessens – hierfür steht der Westhofener Markt. Die Stadtleben GmbH und die dazugehörigen Verbundpartner\, wie die Raketenklub GmbH\, freuen sich sehr auf die Genuss-Tage im schönenWesthofen. \n  \nEin besonderer Dank geht bereits jetzt an die Stadt und die Anwohner\, die uns mit offenen Armen empfangen. \n„Wir freuen uns sehr darauf\, diesen tollen neuen Standort zu bespielen. In diesen dynamischen Zeiten ist das absolut keine Selbstverständlichkeit und geht nur mit allen Beteiligten zusammen. Der Westhofener Markt ist ein tolles Event\, das wir nun mit unserer Street Food Meile erweitern dürfen und definitiv einen Besuch wert.\, Kai Kauermann\, Geschäftsführer Stadtleben GmbH. \n  \nAlles Wichtige auf einen Blick  \nWann? \nFreitag\, den 22.08.2025 bis Sonntag\, den 24.08.2025 \nWo? \nMarktplatz Westhofen \n 
URL:https://street-food-market.de/event/%f0%9f%93%85worms%f0%9f%8d%94westhofener-markt-mit-street-food-meile-2025/
LOCATION:Marktplatz Westhofen
CATEGORIES:Street Food Meile
END:VEVENT
END:VCALENDAR