BEGIN:VCALENDAR
VERSION:2.0
PRODID:-//Street Food Festival &amp; Market - ECPv6.15.12.2//NONSGML v1.0//EN
CALSCALE:GREGORIAN
METHOD:PUBLISH
X-ORIGINAL-URL:https://street-food-market.de
X-WR-CALDESC:Veranstaltungen für Street Food Festival &amp; Market
REFRESH-INTERVAL;VALUE=DURATION:PT1H
X-Robots-Tag:noindex
X-PUBLISHED-TTL:PT1H
BEGIN:VTIMEZONE
TZID:Europe/Berlin
BEGIN:DAYLIGHT
TZOFFSETFROM:+0100
TZOFFSETTO:+0200
TZNAME:CEST
DTSTART:20250330T010000
END:DAYLIGHT
BEGIN:STANDARD
TZOFFSETFROM:+0200
TZOFFSETTO:+0100
TZNAME:CET
DTSTART:20251026T010000
END:STANDARD
BEGIN:DAYLIGHT
TZOFFSETFROM:+0100
TZOFFSETTO:+0200
TZNAME:CEST
DTSTART:20260329T010000
END:DAYLIGHT
BEGIN:STANDARD
TZOFFSETFROM:+0200
TZOFFSETTO:+0100
TZNAME:CET
DTSTART:20261025T010000
END:STANDARD
BEGIN:DAYLIGHT
TZOFFSETFROM:+0100
TZOFFSETTO:+0200
TZNAME:CEST
DTSTART:20270328T010000
END:DAYLIGHT
BEGIN:STANDARD
TZOFFSETFROM:+0200
TZOFFSETTO:+0100
TZNAME:CET
DTSTART:20271031T010000
END:STANDARD
END:VTIMEZONE
BEGIN:VEVENT
DTSTART;VALUE=DATE:20260821
DTEND;VALUE=DATE:20260824
DTSTAMP:20260424T065244
CREATED:20260128T185523Z
LAST-MODIFIED:20260413T140540Z
UID:8597-1787270400-1787529599@street-food-market.de
SUMMARY:Westhofener Markt mit Street Food Meile 2026
DESCRIPTION:Westhofener Markt mit Street Food Meile  \nLeckere Snacks aus aller Welt// Klein aber fein // Eintritt frei \n  \nVon Freitag\, den 21.08.2026 bis Sonntag\, den 23.08.2026\, findet der Westhofener Markt statt. Für ein abwechslungsreiches kulinarisches Angebot wird in diesem Jahr die kleine aber feine Street Food Meile mit Köstlichkeiten aus aller Welt sorgen\, die das bestehende Event im rheinhessischen Westhofen ergänzt. Ein Wochenende voller Kunst\, toller Musik\, gutem Wein und köstlichem Essen.  \n  \nDas kulinarische Angebot reicht von saftigen Burgern über süße Waffeln bis zu veganen Trendgerichten. Hier ist für jeden Geschmack und jeden Geldbeutel das passende Gericht dabei. Ideal\, um über den traditionsträchtigen Markt zu schlendern und im Anschluss ein leckeres Getränk und gute Snacks mit Freunden und der Familie zu genießen.  \n  \nFür bunte Unterhaltung ist gesorgt: Am Freitag und Samstag wird ein DJ für die passenden Vibes sorgen. Am Sonntag werden regionale Künstler vor Ort sein.  \n  \nDas exakte kulinarische Angebot wird noch bekannt gegeben – sicher ist aber\, dass hier für jeden Geschmack der passende Snack dabei ist.  \n  \nDie Stadtleben GmbH und die dazugehörigen Verbundpartner\, wie die Raketenklub GmbH\, freuen sich sehr auf die Genuss-Tage im schönenWesthofen. \n  \nEin besonderer Dank geht bereits jetzt an die Stadt und die Anwohner\, die uns mit offenen Armen empfangen. \n  \n„Wir freuen uns sehr darauf\, diesen Standort zum zweiten Mal zu bespielen. In diesen dynamischen Zeiten ist das absolut keine Selbstverständlichkeit und geht nur mit allen Beteiligten zusammen. Der Westhofener Markt ist ein tolles Event\, das wir nun mit unserer Street Food Meile erweitern dürfen und definitiv einen Besuch wert.”\, Kai Kauermann\, Geschäftsführer Stadtleben GmbH. \n  \nAlles Wichtige auf einen Blick  \n  \nWann? \nFreitag\, den 21.08.2026 bis Sonntag\, den 23.08.2026 \n  \nWo? \nMarktplatz Westhofen \n 
URL:https://street-food-market.de/event/westhofener-markt-mit-street-food-meile-2026/
LOCATION:Marktplatz Westhofen
CATEGORIES:Sonderevents,Street Food Meile
ATTACH;FMTTYPE=image/jpeg:https://street-food-market.de/wp-content/uploads/2025/06/006218-Streetfood_Hanau_WaNiKi.jpg
END:VEVENT
END:VCALENDAR