BEGIN:VCALENDAR
VERSION:2.0
PRODID:-//Street Food Festival &amp; Market - ECPv6.15.12.2//NONSGML v1.0//EN
CALSCALE:GREGORIAN
METHOD:PUBLISH
X-ORIGINAL-URL:https://street-food-market.de
X-WR-CALDESC:Veranstaltungen für Street Food Festival &amp; Market
REFRESH-INTERVAL;VALUE=DURATION:PT1H
X-Robots-Tag:noindex
X-PUBLISHED-TTL:PT1H
BEGIN:VTIMEZONE
TZID:Europe/Berlin
BEGIN:DAYLIGHT
TZOFFSETFROM:+0100
TZOFFSETTO:+0200
TZNAME:CEST
DTSTART:20250330T010000
END:DAYLIGHT
BEGIN:STANDARD
TZOFFSETFROM:+0200
TZOFFSETTO:+0100
TZNAME:CET
DTSTART:20251026T010000
END:STANDARD
BEGIN:DAYLIGHT
TZOFFSETFROM:+0100
TZOFFSETTO:+0200
TZNAME:CEST
DTSTART:20260329T010000
END:DAYLIGHT
BEGIN:STANDARD
TZOFFSETFROM:+0200
TZOFFSETTO:+0100
TZNAME:CET
DTSTART:20261025T010000
END:STANDARD
BEGIN:DAYLIGHT
TZOFFSETFROM:+0100
TZOFFSETTO:+0200
TZNAME:CEST
DTSTART:20270328T010000
END:DAYLIGHT
BEGIN:STANDARD
TZOFFSETFROM:+0200
TZOFFSETTO:+0100
TZNAME:CET
DTSTART:20271031T010000
END:STANDARD
END:VTIMEZONE
BEGIN:VEVENT
DTSTART;VALUE=DATE:20260731
DTEND;VALUE=DATE:20260803
DTSTAMP:20260424T055056
CREATED:20260128T183758Z
LAST-MODIFIED:20260413T140223Z
UID:8582-1785456000-1785715199@street-food-market.de
SUMMARY:Langenselbolder Street Food Festival 2026
DESCRIPTION:Langenselbolder Street Food Festival 2026 \nInternationale Food Trucks und Stände // Park und Schloss-Kulisse // Eintritt frei \nWir kommen wieder! Das Konzept der rollenden Küchenkunst macht am Wochenende von Freitag\, den 31.07.2026 bis Sonntag\, den 02.08.2026 Halt in Langenselbold am Schloss und wird für ein genuss- und abwechslungsreiches Wochenende sorgen. \nDie Stadtleben GmbH und die dazugehörigen Verbundpartner\, wie die Raketenklub GmbH\, freuen sich sehr auf dieses besondere Wochenende in Langenselbold voll guter Laune\, leckerem Essen & coolen Drinks samt buntem Rahmenprogramm und selbstverständlich ganz besonders auf die neugierigen Besucher.  \nDas Langenselbolder Schloss aus dem 18. Jahrhundert und der großzügige Schlosspark mit 6500 qm und alten Bäumen\, bilden hier die perfekte Kulisse. Auch für die kleinen Räuber wird es auf der Wiese bunte Unterhaltung im Kids Bereich geben. \n“Wir freuen uns sehr darauf\, diesen großartigen Standort wieder mit Leckerem vom Grill\, Snacks aus aller Welt und coolen Drinks bespielen zu können. Für ausreichend Schattenplätze und Sitzmöglichkeiten wird gesorgt sein!”\, so Kai Kauermann\, Geschäftsführer Stadtleben GmbH. \nEin besonderer Dank geht an die Stadt\, die uns mit offenen Armen empfängt und uns bei der Logistik unterstützt. \nMission Genussreise & Freunde treffen – Das Konzept der rollenden Küchenkunst \nSchlemmen\, Staunen und Entdecken. So lässt sich das ebenso simple wie geniale Konzept der Street Food Festival Reihe prägnant beschreiben\, die bereits seit dem Herbst 2015 kulinarisch interessierte Besucher jeden Alters und unterschiedlichster Herkunft an den verschiedensten Standorten in ihren Bann zieht.„Fine Dining“ trifft hier auf das klassische Barbecue\, vegane und vegetarische Spezialitäten auf „Fast Casual Schweinereien“. Dieses einzigartige kulinarische Konzept wurde im Februar 2016 mit dem Tourismuspreis der Region Wiesbaden und Rheingau-Taunus ausgezeichnet. \nAlles Wichtige auf einen Blick  \n  \nWann? \nFreitag\, den 31.07.2026 bis Sonntag\, den 02.08.2026 \n  \nWo? \nSchlosspark\, 63505 Langenselbold \nFreitag 16:00 Uhr – 23:00 Uhr (Ende d. Musik\, Schließung Food Trucks – entspanntes Ausklingen)  \nSamstag 14:00 Uhr – 23:00 Uhr  (Ende d. Musik\, Schließung Food Trucks – entspanntes Ausklingen)  \nSonntag 12:00 Uhr – 20:00 Uhr \n 
URL:https://street-food-market.de/event/langenselbolder-street-food-festival-2026/
LOCATION:Schlosspark Langenselbold
CATEGORIES:Street Food Festivals
ATTACH;FMTTYPE=image/jpeg:https://street-food-market.de/wp-content/uploads/2022/11/IMG_0179-scaled.jpg
END:VEVENT
END:VCALENDAR