BEGIN:VCALENDAR
VERSION:2.0
PRODID:-//Street Food Festival &amp; Market - ECPv6.15.12.2//NONSGML v1.0//EN
CALSCALE:GREGORIAN
METHOD:PUBLISH
X-ORIGINAL-URL:https://street-food-market.de
X-WR-CALDESC:Veranstaltungen für Street Food Festival &amp; Market
REFRESH-INTERVAL;VALUE=DURATION:PT1H
X-Robots-Tag:noindex
X-PUBLISHED-TTL:PT1H
BEGIN:VTIMEZONE
TZID:Europe/Berlin
BEGIN:DAYLIGHT
TZOFFSETFROM:+0100
TZOFFSETTO:+0200
TZNAME:CEST
DTSTART:20250330T010000
END:DAYLIGHT
BEGIN:STANDARD
TZOFFSETFROM:+0200
TZOFFSETTO:+0100
TZNAME:CET
DTSTART:20251026T010000
END:STANDARD
BEGIN:DAYLIGHT
TZOFFSETFROM:+0100
TZOFFSETTO:+0200
TZNAME:CEST
DTSTART:20260329T010000
END:DAYLIGHT
BEGIN:STANDARD
TZOFFSETFROM:+0200
TZOFFSETTO:+0100
TZNAME:CET
DTSTART:20261025T010000
END:STANDARD
BEGIN:DAYLIGHT
TZOFFSETFROM:+0100
TZOFFSETTO:+0200
TZNAME:CEST
DTSTART:20270328T010000
END:DAYLIGHT
BEGIN:STANDARD
TZOFFSETFROM:+0200
TZOFFSETTO:+0100
TZNAME:CET
DTSTART:20271031T010000
END:STANDARD
END:VTIMEZONE
BEGIN:VEVENT
DTSTART;VALUE=DATE:20260724
DTEND;VALUE=DATE:20260727
DTSTAMP:20260424T054728
CREATED:20260128T183517Z
LAST-MODIFIED:20260413T140032Z
UID:8579-1784851200-1785110399@street-food-market.de
SUMMARY:Wiesbadener Bier und Genuss Festival 2026
DESCRIPTION:Wiesbadener Bier und Genuss Festival 2026\nWartturm Bierstadt// Eintritt frei// Panorama-Aussicht// klein aber fein \n  \nWir kommen wieder: Im Zeitraum von Freitag den 24.07.2026 bis Sonntag\, den 26.07.2026 verwandelt sich das Gelände rund um die Bierstadter Warte wieder in einen Schauplatz des guten Geschmacks. Das Wiesbadener Bier- und Genuss Festival lädt wieder zum Schlemmen in geselliger Atmosphäre mit Familie und Freunden samt Panorama-Aussicht ein. Die weitläufige\, parkähnliche Location mit Blick über Wiesbaden und mit zahlreichen schattigen Plätzen – dank alter Kastanienbäume – ist dabei die perfekte Location. \n  \nDer Veranstalterverbund samt Netzwerk\, bestehend aus Stadtleben GmbH und Raketenklub GmbH richtet auch in diesem Jahr das kleine aber feine Event an diesem besonderen Standort aus. Ein ausgewähltes Angebot an Köstlichkeiten aus aller Welt sowie kühlen alkoholfreien Getränken\, feinen Weinen\, erfrischenden Bieren und Live Musik runden dieses ab. Ein besonderer Dank geht an die beteiligten Ämter und die lokale Marke „Bierstadter Gold“ für die tatkräftige Unterstützung. Für die kleinen Räuber wird es einen Kidsbereich mit Karussell geben.  \n  \n„Wir freuen uns sehr darauf wieder an diesen großartigen Standort mit Panorama-Ausblick zurückzukehren. An alle\, die noch nicht hier waren: Hier wartet ein kleiner aber feiner Geheimtipp auf Euch. Wir bedanken uns bereits jetzt bei allen Besuchern und den Anwohnern\, die uns hierbei unterstützen.“\, Kai Kauermann\, Geschäftsführer Stadtleben GmbH. \n  \nAlles Wichtige auf einen Blick: \nWas? Bierstadter Genuss-Festival \nWann? \nFr 16:00 – 24:00 Sa 16:00 – 24:00 \nSo 12:00 – 20:00 \n* 22:00 Musik Ende \nWo? Am Wartturm\, 65191 Wiesbaden-Bierstadt \n 
URL:https://street-food-market.de/event/wiesbadener-bier-und-genuss-festival-2026/
LOCATION:Am Wartturm
CATEGORIES:Bier-Genuss-Festival,Genuss Festival
ATTACH;FMTTYPE=image/jpeg:https://street-food-market.de/wp-content/uploads/2022/04/20171008-164549-IMG_8718-scaled.jpg
END:VEVENT
END:VCALENDAR