BEGIN:VCALENDAR
VERSION:2.0
PRODID:-//Street Food Festival &amp; Market - ECPv6.15.12.2//NONSGML v1.0//EN
CALSCALE:GREGORIAN
METHOD:PUBLISH
X-ORIGINAL-URL:https://street-food-market.de
X-WR-CALDESC:Veranstaltungen für Street Food Festival &amp; Market
REFRESH-INTERVAL;VALUE=DURATION:PT1H
X-Robots-Tag:noindex
X-PUBLISHED-TTL:PT1H
BEGIN:VTIMEZONE
TZID:Europe/Berlin
BEGIN:DAYLIGHT
TZOFFSETFROM:+0100
TZOFFSETTO:+0200
TZNAME:CEST
DTSTART:20250330T010000
END:DAYLIGHT
BEGIN:STANDARD
TZOFFSETFROM:+0200
TZOFFSETTO:+0100
TZNAME:CET
DTSTART:20251026T010000
END:STANDARD
BEGIN:DAYLIGHT
TZOFFSETFROM:+0100
TZOFFSETTO:+0200
TZNAME:CEST
DTSTART:20260329T010000
END:DAYLIGHT
BEGIN:STANDARD
TZOFFSETFROM:+0200
TZOFFSETTO:+0100
TZNAME:CET
DTSTART:20261025T010000
END:STANDARD
BEGIN:DAYLIGHT
TZOFFSETFROM:+0100
TZOFFSETTO:+0200
TZNAME:CEST
DTSTART:20270328T010000
END:DAYLIGHT
BEGIN:STANDARD
TZOFFSETFROM:+0200
TZOFFSETTO:+0100
TZNAME:CET
DTSTART:20271031T010000
END:STANDARD
END:VTIMEZONE
BEGIN:VEVENT
DTSTART;VALUE=DATE:20260717
DTEND;VALUE=DATE:20260720
DTSTAMP:20260424T054639
CREATED:20260128T183052Z
LAST-MODIFIED:20260413T135903Z
UID:8576-1784246400-1784505599@street-food-market.de
SUMMARY:Street Food Festival Heusenstamm 2026
DESCRIPTION:Heusenstammer Street Food Festival 2026 \nEintritt frei // Leckeres aus aller Welt // Weindorf \nWir kommen wieder: Am Wochenende von Freitag\, den 17.07.2026 bis Sonntag\, den 19.07.2026 darf in Heusenstamm\, im südhessischen Landkreis Offenbach\, geschlemmt und gestaunt werden\, was die Töpfe und Pfannen der Food Trucks und Stände zu bieten haben. \nDie Stadtleben GmbH und die dazugehörigen Verbundpartner\, wie die Raketenklub GmbH freuen sich sehr auf dieses besondere Wochenende in Heusenstamm und auf kulinarische Vielfalt\, ein buntes Rahmenprogramm und neugierige Besucher. Ein besonderes Highlight ist der neue Standort: Der Heusenstammer Schlosspark bildet die perfekte Kulisse für genussreiche Tage.  \nBunte Unterhaltung für Groß und Klein \nNeben köstlichen Schlemmerein wartet ein Weindorf mit feinen Weinen auf die erwachsenen Gäste. \nFür ausgelassene Stimmung sorgen wechselnde Straßenkünstler. Die kleinen Räuber dürfen sich auf eine größtenteils kostenlose Kids Area zum Spielen und Toben mit Hüpfburgen\, Sumo Ringen und vielem mehr freuen. \n“Bereits seit der ersten Begehung haben wir diesen tollen Standort auf dem Schirm – gerade im Sommer\, war die zentrale Location im Herzen der Stadt mit dem heißen Asphalt nicht ideal. Umso mehr freuen wir uns nun hier unsere kulinarischen Zelte aufschlagen zu dürfen.”\, so Kai Kauermann\, Geschäftsführer Stadtleben GmbH. \nEin besonderer Dank geht an die Stadt für die gute Zusammenarbeit in diesen dynamischen Zeiten. \nMission Genussreise & Freunde treffen – Das Konzept der rollenden Küchenkunst \nSchlemmen\, Staunen und Entdecken. So lässt sich das ebenso simple wie geniale Konzept der Street Food Festival Reihe prägnant beschreiben\, die bereits seit dem Herbst 2015 kulinarisch interessierte Besucher jeden Alters und unterschiedlichster Herkunft an den verschiedensten Standorten in ihren Bann zieht.„Fine Dining“ trifft hier auf das klassische Barbecue\, vegane und vegetarische Spezialitäten auf „Fast Casual Schweinereien“. Dieses einzigartige kulinarische Konzept wurde im Februar 2016 mit dem Tourismuspreis der Region Wiesbaden und Rheingau-Taunus ausgezeichnet. \nAlles Wichtige auf einen Blick \nWann? \nFreitag\, den 17.07.2026 bis Sonntag\, den 19.07.2026 \nWo? \nSchlosspark Heusenstamm \nFreitag 16:00 Uhr – 23:00 Uhr (Ende d. Musik\, Schließung Food Trucks – entspanntes Ausklingen) \nSamstag 12:00 Uhr – 23:00 Uhr (Ende d. Musik\, Schließung Food Trucks – entspanntes Ausklingen) \nSonntag 12:00 Uhr – 20:00 Uhr \n 
URL:https://street-food-market.de/event/street-food-festival-heusenstamm-2026/
LOCATION:Schlosspark Heusenstamm
CATEGORIES:Street Food Festivals
ATTACH;FMTTYPE=image/jpeg:https://street-food-market.de/wp-content/uploads/2025/06/294455-Streetfood_Mainz.jpg
END:VEVENT
END:VCALENDAR