BEGIN:VCALENDAR
VERSION:2.0
PRODID:-//Street Food Festival &amp; Market - ECPv6.15.12.2//NONSGML v1.0//EN
CALSCALE:GREGORIAN
METHOD:PUBLISH
X-ORIGINAL-URL:https://street-food-market.de
X-WR-CALDESC:Veranstaltungen für Street Food Festival &amp; Market
REFRESH-INTERVAL;VALUE=DURATION:PT1H
X-Robots-Tag:noindex
X-PUBLISHED-TTL:PT1H
BEGIN:VTIMEZONE
TZID:Europe/Berlin
BEGIN:DAYLIGHT
TZOFFSETFROM:+0100
TZOFFSETTO:+0200
TZNAME:CEST
DTSTART:20250330T010000
END:DAYLIGHT
BEGIN:STANDARD
TZOFFSETFROM:+0200
TZOFFSETTO:+0100
TZNAME:CET
DTSTART:20251026T010000
END:STANDARD
BEGIN:DAYLIGHT
TZOFFSETFROM:+0100
TZOFFSETTO:+0200
TZNAME:CEST
DTSTART:20260329T010000
END:DAYLIGHT
BEGIN:STANDARD
TZOFFSETFROM:+0200
TZOFFSETTO:+0100
TZNAME:CET
DTSTART:20261025T010000
END:STANDARD
BEGIN:DAYLIGHT
TZOFFSETFROM:+0100
TZOFFSETTO:+0200
TZNAME:CEST
DTSTART:20270328T010000
END:DAYLIGHT
BEGIN:STANDARD
TZOFFSETFROM:+0200
TZOFFSETTO:+0100
TZNAME:CET
DTSTART:20271031T010000
END:STANDARD
END:VTIMEZONE
BEGIN:VEVENT
DTSTART;VALUE=DATE:20260709
DTEND;VALUE=DATE:20260713
DTSTAMP:20260424T055120
CREATED:20260128T182847Z
LAST-MODIFIED:20260413T135812Z
UID:8573-1783555200-1783900799@street-food-market.de
SUMMARY:Seligenstädter Street Food Festival 2026
DESCRIPTION:Seligenstädter Street Food Festival 2026 \nSundowner am Mainufer // Food Trucks // Kinderland// Eintritt frei \nIn diesem Jahr darf am Wochenende von Donnerstag\, den 09.07.2026 bis Sonntag\, den 12.07.2026\, endlich wieder geschlemmt und entspannt werden. Alle hungrigen und neugierigen Besuchern können sich wieder auf ein abwechslungsreiches Wochenende freuen. Für die kleinen Räuber wird es ein Kinderland geben. \n„Wir freuen uns sehr\, auch in diesem Jahr und trotz der dynamischen Zeiten die Location bespielen zu können. Wir bedanken uns bei der Stadt und den Anwohnern für die tolle Zusammenarbeit und freuen uns auf alle Besucher\, die uns hierbei unterstützen. Direkt am Main-Ufer schlemmen – das ist schon besonders.”\, so Kai Kauermann\, Geschäftsführer Stadtleben GmbH. \nDie Besucher dürfen sich auch in diesem Jahr auf eine abwechslungsreiche Auswahl an Ständen und internationalen Foodtrucks vor Ort mit verschiedenen herzhaften und süßen Leckereien sowie einem Apfelweingarten freuen. Wechselnde Kleinkünstler werden auch musikalisch für die passende Stimmung sorgen. \nMission Genussreise & Freunde treffen – Das Konzept der rollenden Küchenkunst \nSchlemmen\, Staunen und Entdecken. So lässt sich das ebenso simple wie geniale Konzept der Street Food Festival Reihe prägnant beschreiben\, die bereits seit dem Herbst 2015 kulinarisch interessierte Besucher jeden Alters und unterschiedlichster Herkunft an den verschiedensten Standorten in ihren Bann zieht.„Fine Dining“ trifft hier auf das klassische Barbecue\, vegane und vegetarische Spezialitäten auf „Fast Casual Schweinereien“. Dieses einzigartige kulinarische Konzept wurde im Februar 2016 mit dem Tourismuspreis der Region Wiesbaden und Rheingau-Taunus ausgezeichnet. \nWann? \nDonnerstag\, den 09.07.2026 bis Sonntag\, den 12.07.2026 \nWo? \nFestplatz am Steinheimer Turm \nDonnerstag ab 16:00 Uhr \nFreitag ab 16:00 Uhr \nSamstag ab 12:00 Uhr \nSonntag ab 12:00 Uhr
URL:https://street-food-market.de/event/seligenstaedter-street-food-festival-2026/
LOCATION:Festplatz am Steinheimer Turm
CATEGORIES:Street Food Festivals
ATTACH;FMTTYPE=image/jpeg:https://street-food-market.de/wp-content/uploads/2025/06/322754-Wi-Schlemmerwochen.jpg
END:VEVENT
END:VCALENDAR