BEGIN:VCALENDAR
VERSION:2.0
PRODID:-//Street Food Festival &amp; Market - ECPv6.15.12.2//NONSGML v1.0//EN
CALSCALE:GREGORIAN
METHOD:PUBLISH
X-WR-CALNAME:Street Food Festival &amp; Market
X-ORIGINAL-URL:https://street-food-market.de
X-WR-CALDESC:Veranstaltungen für Street Food Festival &amp; Market
REFRESH-INTERVAL;VALUE=DURATION:PT1H
X-Robots-Tag:noindex
X-PUBLISHED-TTL:PT1H
BEGIN:VTIMEZONE
TZID:Europe/Berlin
BEGIN:DAYLIGHT
TZOFFSETFROM:+0100
TZOFFSETTO:+0200
TZNAME:CEST
DTSTART:20250330T010000
END:DAYLIGHT
BEGIN:STANDARD
TZOFFSETFROM:+0200
TZOFFSETTO:+0100
TZNAME:CET
DTSTART:20251026T010000
END:STANDARD
BEGIN:DAYLIGHT
TZOFFSETFROM:+0100
TZOFFSETTO:+0200
TZNAME:CEST
DTSTART:20260329T010000
END:DAYLIGHT
BEGIN:STANDARD
TZOFFSETFROM:+0200
TZOFFSETTO:+0100
TZNAME:CET
DTSTART:20261025T010000
END:STANDARD
BEGIN:DAYLIGHT
TZOFFSETFROM:+0100
TZOFFSETTO:+0200
TZNAME:CEST
DTSTART:20270328T010000
END:DAYLIGHT
BEGIN:STANDARD
TZOFFSETFROM:+0200
TZOFFSETTO:+0100
TZNAME:CET
DTSTART:20271031T010000
END:STANDARD
END:VTIMEZONE
BEGIN:VEVENT
DTSTART;VALUE=DATE:20260626
DTEND;VALUE=DATE:20260629
DTSTAMP:20260424T045801
CREATED:20260128T182346Z
LAST-MODIFIED:20260413T135633Z
UID:8566-1782432000-1782691199@street-food-market.de
SUMMARY:Mainzer Rheinsommer 2026
DESCRIPTION:Mainzer Rheinsommer 2026 \nBunte Unterhaltung // feine Weine und Leckeres //  Rheinpromenade \n  \nVon Freitag\, den 26.06.2026 bis Sonntag\, den 28.06.2026 laden wir zum Mainzer Rheinsommer direkt an der Rheinpromenade mit Panoramablick ein. Die Besucher dürfen sich auf einen kleinen aber feinen Mix aus ca. 25 Street Food- und Getränke-Ständen freuen.  \n  \nMit dabei sind beispielsweise leckere Dumplings\, Bubble Tea\, Corndogs\, südamerikanische Spezialitäten\, Tacos\, Cocktails oder auch Raclette.  \n  \nDie Stadtleben GmbH und die dazugehörigen Verbundpartner wie die Raketenklub GmbH\, freuen sich sehr auf gleich drei Tage im schönen Mainz.  \n  \n“Der Standort ist großartig – ideal\, um sich hier mit einem Sundowner und leckeren Street Food Snacks zu entspannen. Die bunte Street-Food-Vielfalt direkt am Rhein lässt sich am besten mit Freunden oder der Familie genießen.”\, so Kai Kauermann\, Geschäftsführer Stadtleben GmbH. \n  \nMission Genussreise & Freunde treffen – Das Konzept der rollenden Küchenkunst \n  \nSchlemmen\, Staunen und Entdecken. Neben dem Konzept der Genussfestivals setzt die Stadtleben GmbH auch die bekannten Street Food Festivals in einem Radius von 100 Kilometern rund um Wiesbaden um: Das wortwörtliche Erfolgsrezept der Street Food Festivals aus Fast Casual Schweinereien\, klassischem Barbecue und vielem mehr wurde im Februar 2016 mit dem Tourismuspreis der Region Wiesbaden und Rheingau-Taunus ausgezeichnet. \n  \nAlles Wichtige auf einen Blick  \n  \nWann? \nFreitag\, den 26.06.2026 bis Sonntag\, den 28.06.2026 \n  \nFr\, 16:00 – 23:00 Uhr \nSa\, 12:00 – 23:00 Uhr  \nSo\, 12:00 – 20:00 Uhr \n  \nWo? \nMainzer Rheinpromenade / Ab Brückenkopf / Seitlich Peter-Altmeyer-Allee direkt am Wasser \n 
URL:https://street-food-market.de/event/mainzer-rheinsommer-2026/
LOCATION:Rhenpromenade Peter-Altmeier-Allee
CATEGORIES:Sonderevents
ATTACH;FMTTYPE=image/jpeg:https://street-food-market.de/wp-content/uploads/2025/07/20160430-134411-142489-min-lowres.jpg
END:VEVENT
END:VCALENDAR