BEGIN:VCALENDAR
VERSION:2.0
PRODID:-//Street Food Festival &amp; Market - ECPv6.15.12.2//NONSGML v1.0//EN
CALSCALE:GREGORIAN
METHOD:PUBLISH
X-WR-CALNAME:Street Food Festival &amp; Market
X-ORIGINAL-URL:https://street-food-market.de
X-WR-CALDESC:Veranstaltungen für Street Food Festival &amp; Market
REFRESH-INTERVAL;VALUE=DURATION:PT1H
X-Robots-Tag:noindex
X-PUBLISHED-TTL:PT1H
BEGIN:VTIMEZONE
TZID:Europe/Berlin
BEGIN:DAYLIGHT
TZOFFSETFROM:+0100
TZOFFSETTO:+0200
TZNAME:CEST
DTSTART:20250330T010000
END:DAYLIGHT
BEGIN:STANDARD
TZOFFSETFROM:+0200
TZOFFSETTO:+0100
TZNAME:CET
DTSTART:20251026T010000
END:STANDARD
BEGIN:DAYLIGHT
TZOFFSETFROM:+0100
TZOFFSETTO:+0200
TZNAME:CEST
DTSTART:20260329T010000
END:DAYLIGHT
BEGIN:STANDARD
TZOFFSETFROM:+0200
TZOFFSETTO:+0100
TZNAME:CET
DTSTART:20261025T010000
END:STANDARD
BEGIN:DAYLIGHT
TZOFFSETFROM:+0100
TZOFFSETTO:+0200
TZNAME:CEST
DTSTART:20270328T010000
END:DAYLIGHT
BEGIN:STANDARD
TZOFFSETFROM:+0200
TZOFFSETTO:+0100
TZNAME:CET
DTSTART:20271031T010000
END:STANDARD
END:VTIMEZONE
BEGIN:VEVENT
DTSTART;VALUE=DATE:20260410
DTEND;VALUE=DATE:20260413
DTSTAMP:20260424T032933
CREATED:20231124T080040Z
LAST-MODIFIED:20251214T205145Z
UID:7577-1775779200-1776038399@street-food-market.de
SUMMARY:📅Frankenthal🍔Street Food Festival 2026
DESCRIPTION:Frankenthaler Street Food Festival 2026\nInternationale Foodtrucks & Stände • Verkaufsoffener Sonntag • Eintritt frei \nWir sind zurück!\n Von Freitag\, 10. April\, bis Sonntag\, 12. April 2026\, verwandelt sich die Frankenthaler Innenstadt erneut in ein kulinarisches Entdeckerparadies. Auf dem Rathausplatz sowie dem Vorplatz der Ruine laden internationale Foodtrucks und vielfältige Genussstände zu einem Wochenende voller Geschmack\, Begegnung und guter Laune ein. Ein erweitertes Angebot und der verkaufsoffene Sonntag von 13:00 bis 18:00 Uhr garantieren ein abwechslungsreiches Erlebnis für die ganze Familie. \nDas Frankenthaler Street Food Festival startet wie gewohnt am Freitag direkt im Anschluss an den beliebten Frankenthaler Wochenmarkt – ideal\, um den Einkaufsbummel nahtlos in ein genussvolles Wochenende übergehen zu lassen. \nDie Stadtleben GmbH und ihre Verbundpartner\, darunter die Raketenklub GmbH\, freuen sich auf drei Tage voller kulinarischer Vielfalt\, stimmungsvoller Festivalatmosphäre und vielen neugierigen Besucherinnen und Besuchern. Die Burger-Corner lockt mit saftigen Klassikern und kreativen Neuinterpretationen\, während zahlreiche Craft-Bier-Spezialitäten für erfrischende Genussmomente sorgen. Für die kleinen Gäste gibt es auch in diesem Jahr Spiel & Spaß in der Kids-Area. \n„Bereits zum vierten Mal freuen wir uns auf ein großartiges Wochenende mit Leckerem vom Grill\, Snacks aus aller Welt und coolen Drinks in Frankenthal! Wir hoffen dabei auf gutes\, frühlingshaftes Wetter! Der verkaufsoffene Sonntag ist als Ergänzung perfekt.“\, sagt Kai Kauermann\, Geschäftsführer der Stadtleben GmbH. \nEin besonderer Dank gilt der Stadt Frankenthal sowie dem Frankenthaler City- und Stadtmarketing e. V. für die Unterstützung. \n  \nMission Genussreise & Freunde treffen – Das Konzept der rollenden Küchenkunst \n  \nSchlemmen\, Staunen und Entdecken. So lässt sich das ebenso simple wie geniale Konzept der Street Food Festival Reihe prägnant beschreiben\, die bereits seit dem Herbst 2015 kulinarisch interessierte Besucher jeden Alters und unterschiedlichster Herkunft an den verschiedensten Standorten in ihren Bann zieht.„Fine Dining“ trifft hier auf das klassische Barbecue\, vegane und vegetarische Spezialitäten auf „Fast Casual Schweinereien“. Dieses einzigartige kulinarische Konzept wurde im Februar 2016 mit dem Tourismuspreis der Region Wiesbaden und Rheingau-Taunus ausgezeichnet. \n  \nAlles Wichtige auf einen Blick  \n  \nWann? \nFreitag\, den 10.04.2026 bis Sonntag\, den 12.04.2026 \nFreitag ab 17:00 Uhr \nSamstag ab 12:00 Uhr \nSonntag ab 12:00 Uhr \nWo? \nRathausplatz 67227  Frankenthal  \n 
URL:https://street-food-market.de/event/%f0%9f%93%85frankenthal%f0%9f%8d%94street-food-festival/
LOCATION:Frankenthal\, Rathausplatz\, 67227\, Frankenthal\, Rheinland-Pfalz\, Deutschland
CATEGORIES:Street Food Festivals
ATTACH;FMTTYPE=image/jpeg:https://street-food-market.de/wp-content/uploads/2025/06/322754-Wi-Schlemmerwochen.jpg
END:VEVENT
END:VCALENDAR