BEGIN:VCALENDAR
VERSION:2.0
PRODID:-//Street Food Festival &amp; Market - ECPv6.15.12.2//NONSGML v1.0//EN
CALSCALE:GREGORIAN
METHOD:PUBLISH
X-ORIGINAL-URL:https://street-food-market.de
X-WR-CALDESC:Veranstaltungen für Street Food Festival &amp; Market
REFRESH-INTERVAL;VALUE=DURATION:PT1H
X-Robots-Tag:noindex
X-PUBLISHED-TTL:PT1H
BEGIN:VTIMEZONE
TZID:Europe/Berlin
BEGIN:DAYLIGHT
TZOFFSETFROM:+0100
TZOFFSETTO:+0200
TZNAME:CEST
DTSTART:20240331T010000
END:DAYLIGHT
BEGIN:STANDARD
TZOFFSETFROM:+0200
TZOFFSETTO:+0100
TZNAME:CET
DTSTART:20241027T010000
END:STANDARD
BEGIN:DAYLIGHT
TZOFFSETFROM:+0100
TZOFFSETTO:+0200
TZNAME:CEST
DTSTART:20250330T010000
END:DAYLIGHT
BEGIN:STANDARD
TZOFFSETFROM:+0200
TZOFFSETTO:+0100
TZNAME:CET
DTSTART:20251026T010000
END:STANDARD
BEGIN:DAYLIGHT
TZOFFSETFROM:+0100
TZOFFSETTO:+0200
TZNAME:CEST
DTSTART:20260329T010000
END:DAYLIGHT
BEGIN:STANDARD
TZOFFSETFROM:+0200
TZOFFSETTO:+0100
TZNAME:CET
DTSTART:20261025T010000
END:STANDARD
END:VTIMEZONE
BEGIN:VEVENT
DTSTART;TZID=Europe/Berlin:20250822T160000
DTEND;TZID=Europe/Berlin:20250824T200000
DTSTAMP:20260423T222732
CREATED:20241222T111857Z
LAST-MODIFIED:20250330T155404Z
UID:7901-1755878400-1756065600@street-food-market.de
SUMMARY:📅Westhofener Markt mit Street-Food-Meile 2025🍔
DESCRIPTION:Westhofener Markt mit Street Food Meile  \nLeckere Snacks aus aller Welt// Klein aber fein // Eintritt frei \nVon Freitag\, den 22.08.2025 bis Sonntag\, den 24.08.2025\, findet der Westhofener Markt statt. Für ein abwechslungsreiches kulinarisches Angebot wird in diesem Jahr die kleine aber feine Street Food Meile mit Köstlichkeiten aus aller Welt sorgen\, die das bestehende Event im rheinhessischen Westhofen ergänzt. Ein Wochenende voller Kunst\, toller Musik\, gutem Wein und köstlichem Essen.  \nDas kulinarische Angebot reicht von saftigen Burgern über süße Waffeln bis zu veganen Trendgerichten. Hier ist für jeden Geschmack und jeden Geldbeutel das passende Gericht dabei. Ideal\, um über den traditionsträchtigen Markt zu schlendern und im Anschluss ein leckeres Getränk und gute Snacks mit Freunden und der Familie zu genießen.  \nDas exakte kulinarische Angebot wird noch bekannt gegeben – sicher ist aber\, dass hier für jeden Geschmack der passende Snack dabei ist.  \nLive-Musik\, einen kleinen Entdeckermarkt\, die beliebte Wingertsheisjerwanderung und natürlich den großartigen Wein Rheinhessens – hierfür steht der Westhofener Markt. Die Stadtleben GmbH und die dazugehörigen Verbundpartner\, wie die Raketenklub GmbH\, freuen sich sehr auf die Genuss-Tage im schönenWesthofen. \n  \nEin besonderer Dank geht bereits jetzt an die Stadt und die Anwohner\, die uns mit offenen Armen empfangen. \n„Wir freuen uns sehr darauf\, diesen tollen neuen Standort zu bespielen. In diesen dynamischen Zeiten ist das absolut keine Selbstverständlichkeit und geht nur mit allen Beteiligten zusammen. Der Westhofener Markt ist ein tolles Event\, das wir nun mit unserer Street Food Meile erweitern dürfen und definitiv einen Besuch wert.\, Kai Kauermann\, Geschäftsführer Stadtleben GmbH. \n  \nAlles Wichtige auf einen Blick  \nWann? \nFreitag\, den 22.08.2025 bis Sonntag\, den 24.08.2025 \nWo? \nMarktplatz Westhofen \n 
URL:https://street-food-market.de/event/%f0%9f%93%85worms%f0%9f%8d%94westhofener-markt-mit-street-food-meile-2025/
LOCATION:Marktplatz Westhofen
CATEGORIES:Street Food Meile
END:VEVENT
END:VCALENDAR