BEGIN:VCALENDAR
VERSION:2.0
PRODID:-//Street Food Festival &amp; Market - ECPv6.15.12.2//NONSGML v1.0//EN
CALSCALE:GREGORIAN
METHOD:PUBLISH
X-ORIGINAL-URL:https://street-food-market.de
X-WR-CALDESC:Veranstaltungen für Street Food Festival &amp; Market
REFRESH-INTERVAL;VALUE=DURATION:PT1H
X-Robots-Tag:noindex
X-PUBLISHED-TTL:PT1H
BEGIN:VTIMEZONE
TZID:Europe/Berlin
BEGIN:DAYLIGHT
TZOFFSETFROM:+0100
TZOFFSETTO:+0200
TZNAME:CEST
DTSTART:20240331T010000
END:DAYLIGHT
BEGIN:STANDARD
TZOFFSETFROM:+0200
TZOFFSETTO:+0100
TZNAME:CET
DTSTART:20241027T010000
END:STANDARD
BEGIN:DAYLIGHT
TZOFFSETFROM:+0100
TZOFFSETTO:+0200
TZNAME:CEST
DTSTART:20250330T010000
END:DAYLIGHT
BEGIN:STANDARD
TZOFFSETFROM:+0200
TZOFFSETTO:+0100
TZNAME:CET
DTSTART:20251026T010000
END:STANDARD
BEGIN:DAYLIGHT
TZOFFSETFROM:+0100
TZOFFSETTO:+0200
TZNAME:CEST
DTSTART:20260329T010000
END:DAYLIGHT
BEGIN:STANDARD
TZOFFSETFROM:+0200
TZOFFSETTO:+0100
TZNAME:CET
DTSTART:20261025T010000
END:STANDARD
END:VTIMEZONE
BEGIN:VEVENT
DTSTART;VALUE=DATE:20250626
DTEND;VALUE=DATE:20250630
DTSTAMP:20260423T212025
CREATED:20241213T145606Z
LAST-MODIFIED:20250305T180943Z
UID:7257-1750896000-1751241599@street-food-market.de
SUMMARY:📅📅Hanau🍔 Street Food Festival – Schlossgartenfest 2025 Part II
DESCRIPTION:Hanauer Schlossgartenfest Part 2 \nInternationale Food Trucks und Stände //Keramik trifft Street Food// Eintritt frei \nDas Hanauer Schlossgartenfest lädt in diesem Jahr in gleich zwei Etappen zum geselligen Schlemmen mit Freunden und der Familie ein: Von Donnerstag\, den 19.06.2025 bis Sonntag\, den 22.06.2025 und eine Woche später von Donnerstag\, den 26.06.2025 bis Sonntag\, den 29.06.2025.  \n  \nDie Besucher dürfen sich im Rahmen des zweiten Parts – parallel zum internationalen Keramikmarkt am 28.06. und 29.06.2025 – auf ein buntes Treiben mit lokalen Anbietern und verschiedenen Gast Trucks freuen. Das kleine aber feine Event wird auch mit einigen bekannten Standbetreibern auftrumpfen\, die bei dem großen Street Food Event der Stadt dabei waren. Der Eintritt ist frei.  \n  \nKeramik trifft Street Food: Der bekannte Keramikmarkt überzeugt mit künstlicher Vielfalt und hohen handwerklichen Qualitäten. Ideal zum Bummeln und um sich das ein oder andere Schmuckstück für Haus oder Garten mitzunehmen – vom Gebrauchsgeschirr über Vasen\, Töpfe und Schmuck bis zur Gartendekoration. \nIn Kombination mit leckerem Street Food aus aller Welt für die Stärkung zwischendurch ein einzigartiges Konzept. Der Schlossgarten in der Altstadt bildet dazu die passende Kulisse.  \n  \nDas exakte Food-Programm wird auf unserem Street Food Kanal auf Facebook vorgestellt. \n  \nMusikalisch untermalt wird das Ganze durch ein wechselndes Angebot an Musik Acts\, die für die passende Hintergrundmusik sorgen werden. \n  \nDie Stadtleben GmbH und die dazugehörigen Verbundpartner wie die Raketenklub GmbH freuen sich sehr auf die Tage in Hanau . Für die kleinen Räuber wird es einen Kidsbereich mit Karussell geben. \n  \nMission Genussreise & Freunde treffen – Das Konzept der rollenden Küchenkunst \n  \nSchlemmen\, Staunen und Entdecken. Neben dem Konzept der Genussfestivals setzt die Stadtleben GmbH auch die bekannten Street Food Festivals in einem Radius von 100 Kilometern rund um Wiesbaden um: Das wortwörtliche Erfolgsrezept der Street Food Festivals aus Fast Casual Schweinereien\, klassischem Barbecue und vielem mehr wurde im Februar 2016 mit dem Tourismuspreis der Region Wiesbaden und Rheingau-Taunus ausgezeichnet. \nAlles Wichtige auf einen Blick  \n  \nWann? \nDonnerstag\, den 26.06.2025 bis Sonntag\, den 29.06.2025.  \n  \nDonnerstag 16:00 Uhr – 22:00 Uhr (Schließung Food Trucks – anwohnerfreundliches Ausklingen)  \nFreitag 16:00 – 22:00 Uhr (Schließung Food Trucks – anwohnerfreundliches Ausklingen)  \nSamstag 12:00 Uhr – 22:00 Uhr (Schließung Food Trucks – anwohnerfreundliches Ausklingen)  \nSonntag 12:00 Uhr – 20:00 Uhr  \n  \nWo?  \nSchlossgarten Hanau
URL:https://street-food-market.de/event/%f0%9f%93%85-hanau%f0%9f%8d%94-street-food-festival/
LOCATION:Hanau\, Schlossgarten\, 63450\, Hanau\, Hessen
ATTACH;FMTTYPE=image/jpeg:https://street-food-market.de/wp-content/uploads/2023/01/31IMG_0184-scaled.jpg
END:VEVENT
END:VCALENDAR