BEGIN:VCALENDAR
VERSION:2.0
PRODID:-//Street Food Festival &amp; Market - ECPv6.15.12.2//NONSGML v1.0//EN
CALSCALE:GREGORIAN
METHOD:PUBLISH
X-ORIGINAL-URL:https://street-food-market.de
X-WR-CALDESC:Veranstaltungen für Street Food Festival &amp; Market
REFRESH-INTERVAL;VALUE=DURATION:PT1H
X-Robots-Tag:noindex
X-PUBLISHED-TTL:PT1H
BEGIN:VTIMEZONE
TZID:Europe/Berlin
BEGIN:DAYLIGHT
TZOFFSETFROM:+0100
TZOFFSETTO:+0200
TZNAME:CEST
DTSTART:20240331T010000
END:DAYLIGHT
BEGIN:STANDARD
TZOFFSETFROM:+0200
TZOFFSETTO:+0100
TZNAME:CET
DTSTART:20241027T010000
END:STANDARD
BEGIN:DAYLIGHT
TZOFFSETFROM:+0100
TZOFFSETTO:+0200
TZNAME:CEST
DTSTART:20250330T010000
END:DAYLIGHT
BEGIN:STANDARD
TZOFFSETFROM:+0200
TZOFFSETTO:+0100
TZNAME:CET
DTSTART:20251026T010000
END:STANDARD
BEGIN:DAYLIGHT
TZOFFSETFROM:+0100
TZOFFSETTO:+0200
TZNAME:CEST
DTSTART:20260329T010000
END:DAYLIGHT
BEGIN:STANDARD
TZOFFSETFROM:+0200
TZOFFSETTO:+0100
TZNAME:CET
DTSTART:20261025T010000
END:STANDARD
END:VTIMEZONE
BEGIN:VEVENT
DTSTART;VALUE=DATE:20250528
DTEND;VALUE=DATE:20250610
DTSTAMP:20260423T195823
CREATED:20231124T081532Z
LAST-MODIFIED:20250330T155119Z
UID:7599-1748390400-1749513599@street-food-market.de
SUMMARY:📅Mainz🍔 Genuss-Festival 2025
DESCRIPTION:Mainzer Genuss-Festival 2025 \nDirekt am Rheinufer // klein und fein // Über Pfingsten // Eintritt frei \nVon Mittwoch\, den 28.05.2025 bis Montag\, den 09.06.2025\, gibt es an der Malakoff Passage / Hyatt direkt am Rheinufer ein kleines aber feines Angebot an leckeren Street-Food-Snacks und guten Getränken. Ideal für einen Spaziergang oder Bummel mit Freunden und der Familie – und das über das lange Pfingstwochenende! \nDas kulinarische Angebot reicht von saftigen Burger inklusive Feuerring über süße Waffeln bis zu veganen Trendgerichten. Hier ist für jeden Geschmack und jeden Geldbeutel das passende Gericht dabei.Ein weiters Highlight\, das sich ideal mit dem Maizer Genuss-Festival verbinden lässt\, ist der Hyatt Biergarten mit wunderschönen Rhein-Blick und leckerem Genus-Essen. \nDie Stadtleben GmbH und die dazugehörigen Verbundpartner\, wie die Raketenklub GmbH\, freuen sich sehr auf die Genuss-Tage im schönen Mainz. \nEin besonderer Dank geht bereits jetzt an die Stadt und die Anwohner\, die uns mit offenen Armen empfangen. \n„Wir freuen uns sehr darauf fast zeitgleich zwei Events in Mainz ausrichten zu dürfen und auf zahlreiche Besucher an diesem tollen Standort mit Rheinpanorama.“\, Kai Kauermann\, Geschäftsführer Stadtleben GmbH. \nMission Genussreise & Freunde treffen – Das Konzept der rollenden Küchenkunst \nSchlemmen\, Staunen und Entdecken. Neben dem Konzept der Genussfestivals setzt die Stadtleben GmbH auch die bekannten Street Food Festivals in einem Radius von 100 Kilometern rund um Wiesbaden um: Das wortwörtliche Erfolgsrezept der Street Food Festivals aus Fast Casual Schweinereien\, klassischem Barbecue und vielem mehr wurde im Februar 2016 mit dem Tourismuspreis der Region Wiesbaden und Rheingau-Taunus ausgezeichnet. \n  \nAlles Wichtige auf einen Blick  \nWann? \nMittwoch\, den 28.05.2025 bis Montag\, den 09.06.2025 \nWo? \nRheinufer Mainz  \nMO – FR ab 16 Uhr \nSA – SO + MO (Pfingsten) ab 12 Uhr \n 
URL:https://street-food-market.de/event/%f0%9f%93%85mainz%f0%9f%8d%94-street-food-festival/
LOCATION:An der Malakoff Passage\, An der Malakoff Passage
CATEGORIES:Street Food Festivals
ATTACH;FMTTYPE=image/jpeg:https://street-food-market.de/wp-content/uploads/2023/01/20170730-115711-IMGL0623-scaled.jpg
END:VEVENT
BEGIN:VEVENT
DTSTART;VALUE=DATE:20250606
DTEND;VALUE=DATE:20250610
DTSTAMP:20260423T195823
CREATED:20241124T080546Z
LAST-MODIFIED:20250501T121727Z
UID:7583-1749168000-1749513599@street-food-market.de
SUMMARY:📅Rodgau🍔 Wein & Genuss Festival 2025
DESCRIPTION:Rodgauer Wein und Genuss Festival 2025 \nBunte Unterhaltung // feine Weine und Leckeres // Im Herzen der Stadt \nWir kommen wieder! Von Freitag\, den 06.06.2025 bis Montag\, den 09.06.2025 kehrt die Eventreihe rund um das Wein und Genuss Festival zurück ins hessische Rodgau. Die Besucher dürfen sich auf einen schönen Mix aus Street Food Ständen\, den ansässigen Locals – wie die Eisdiele –  und auf bekannte Klassiker anderer Weinfeste freuen. \nDie Straßenkünstler-Bühne mit Walking Acts wird für bunte Unterhaltung auf dem Puiseauxplatz sorgen! An diesem langen Wochenende laden wir zum gemeinsamen Schlemmen und Genießen mit Freunden und der Familie ein. Der Eintritt ist frei! \nDie Stadtleben GmbH und die dazugehörigen Verbundpartner wie die Raketenklub GmbH und Rodgau Erleben\, freuen sich sehr auf gleich vier Tage im schönen Rodgau mit Leckerem vom Grill\, veganen Köstlichkeiten und süßen Neukreationen.  \n“Ein besonderer Dank geht an Rodgau Erleben e.V.\, die das Event zwar nicht mehr in diesem Jahr\, aber in den vergangenen Jahren großartig unterstützt haben. Wir freuen uns sehr\, dass wir die Veranstaltung trotz der dynamischen Zeiten ausrichten können und bedanken uns herzlich bei allen Besuchern\, den Stadtwerken und weiteren Sponsoren für die großartige Zusammenarbeit und das Verständnis. In diesen Zeiten keine Selbstverständlichkeit.”\, so Kai Kauermann\, Geschäftsführer Stadtleben GmbH. \nMission Genussreise & Freunde treffen – Das Konzept der rollenden Küchenkunst \nSchlemmen\, Staunen und Entdecken. Neben dem Konzept der Genussfestivals setzt die Stadtleben GmbH auch die bekannten Street Food Festivals in einem Radius von 100 Kilometern rund um Wiesbaden um: Das wortwörtliche Erfolgsrezept der Street Food Festivals aus Fast Casual Schweinereien\, klassischem Barbecue und vielem mehr wurde im Februar 2016 mit dem Tourismuspreis der Region Wiesbaden und Rheingau-Taunus ausgezeichnet. \n  \nAlles Wichtige auf einen Blick  \n  \nWann? \nFreitag\, den 06.06.2025 bis Montag\, den 09.06.2025 \n  \nWo? \nPuiseauxplatz\, 63110 Rodgau \n  \nFreitag 16:00 Uhr – 23:00 Uhr (Ende d. Musik\, Schließung Food Trucks – entspanntes Ausklingen)  \nSamstag 14:00 Uhr – 23:00 Uhr  (Ende d. Musik\, Schließung Food Trucks – entspanntes Ausklingen)  \nSonntag 12:00 Uhr – 23:00 Uhr  (Ende d. Musik\, Schließung Food Trucks – entspanntes Ausklingen)  \nMontag 12:00 Uhr – 20:00 Uhr \n 
URL:https://street-food-market.de/event/%f0%9f%93%85rodgau%f0%9f%8d%94-wein-genuss-festival/
LOCATION:Rodgau\, Puiseauxplatz\, 63110\, Rodgau\, Hessen\, Deutschland
CATEGORIES:Wein-Genuss-Festival
ATTACH;FMTTYPE=image/jpeg:https://street-food-market.de/wp-content/uploads/2020/02/Weinbar2-scaled.jpg
END:VEVENT
END:VCALENDAR