BEGIN:VCALENDAR
VERSION:2.0
PRODID:-//Street Food Festival &amp; Market - ECPv6.15.12.2//NONSGML v1.0//EN
CALSCALE:GREGORIAN
METHOD:PUBLISH
X-ORIGINAL-URL:https://street-food-market.de
X-WR-CALDESC:Veranstaltungen für Street Food Festival &amp; Market
REFRESH-INTERVAL;VALUE=DURATION:PT1H
X-Robots-Tag:noindex
X-PUBLISHED-TTL:PT1H
BEGIN:VTIMEZONE
TZID:Europe/Berlin
BEGIN:DAYLIGHT
TZOFFSETFROM:+0100
TZOFFSETTO:+0200
TZNAME:CEST
DTSTART:20240331T010000
END:DAYLIGHT
BEGIN:STANDARD
TZOFFSETFROM:+0200
TZOFFSETTO:+0100
TZNAME:CET
DTSTART:20241027T010000
END:STANDARD
BEGIN:DAYLIGHT
TZOFFSETFROM:+0100
TZOFFSETTO:+0200
TZNAME:CEST
DTSTART:20250330T010000
END:DAYLIGHT
BEGIN:STANDARD
TZOFFSETFROM:+0200
TZOFFSETTO:+0100
TZNAME:CET
DTSTART:20251026T010000
END:STANDARD
BEGIN:DAYLIGHT
TZOFFSETFROM:+0100
TZOFFSETTO:+0200
TZNAME:CEST
DTSTART:20260329T010000
END:DAYLIGHT
BEGIN:STANDARD
TZOFFSETFROM:+0200
TZOFFSETTO:+0100
TZNAME:CET
DTSTART:20261025T010000
END:STANDARD
END:VTIMEZONE
BEGIN:VEVENT
DTSTART;VALUE=DATE:20250523
DTEND;VALUE=DATE:20250526
DTSTAMP:20260423T212743
CREATED:20231124T081100Z
LAST-MODIFIED:20250105T145817Z
UID:7592-1747958400-1748217599@street-food-market.de
SUMMARY:📅Alzey🍔 Street Food Festival 2025
DESCRIPTION:Alzeyer Street Food Festival 2025 \nBunte Unterhaltung // feine Weine und Leckeres // Im Herzen der Stadt \nDer „gute Geschmack“ kehrt zurück in die heimliche Hauptstadt Rheinhessens! Die Besucher erwartet von Freitag\, den 23.05.2025 bis Sonntag\, den 25.05.2025 wieder ein genuss- und abwechslungsreiches Wochenende in Alzey.  \nAuch die regionalen Nachbarn aus dem Landkreis Alzey-Worms und dem Umland sind herzlich dazu eingeladen\, an diesem Wochenenden im rheinhessischen Alzey gemeinsam mit uns auf rheinlandpfälzische Art zu schlemmen\, staunen und Freunde treffen.  \nDie Stadtleben GmbH und die dazugehörigen Verbundpartner\, wie die Raketenklub GmbH\, freuen sich sehr auf dieses besondere Wochenende in Alzey voller guter Laune\, leckerem Essen & coolen Drinks samt buntem Rahmenprogramm wechselnder Straßenkünstler und Walking Acts.  \n“Wir freuen uns auf die Besucher und Stammgäste\, die bekanntlich auch aus dem Umland kommen\, und jedes Jahr den Weg zu uns finden – was uns sehr stolz macht. Ohne die tatkräftige Unterstützung aller Beteiligten\, wie der Stadt\, Sponsoren\, Anwohnern und Besuchern\, wäre das Event in diesen dynamischen Zeiten nicht möglich – und das ohne Eintrittspreise.”\, so Kai Kauermann\, Geschäftsführer Stadtleben GmbH. \n  \nMission Genussreise & Freunde treffen – Das Konzept der rollenden Küchenkunst \nSchlemmen\, Staunen und Entdecken. So lässt sich das ebenso simple wie geniale Konzept der Street Food Festival Reihe prägnant beschreiben\, die bereits seit dem Herbst 2015 kulinarisch interessierte Besucher jeden Alters und unterschiedlichster Herkunft an den verschiedensten Standorten in ihren Bann zieht.„Fine Dining“ trifft hier auf das klassische Barbecue\, vegane und vegetarische Spezialitäten auf „Fast Casual Schweinereien“. Dieses einzigartige kulinarische Konzept wurde im Februar 2016 mit dem Tourismuspreis der Region Wiesbaden und Rheingau-Taunus ausgezeichnet. \n  \nAlles Wichtige auf einen Blick  \nWann? \nFreitag\, den 23.05.2025 bis Sonntag\, den 25.05.2025 \n  \nWo? \nParkplatz Ostdeutsche Straße\,  55232 Alzey \n  \nFreitag 16:00 Uhr – 22:00 Uhr (Ende d. Musik\, Schließung Food Trucks – entspanntes Ausklingen)  \nSamstag 12:00 Uhr – 22:00 Uhr  (Ende d. Musik\, Schließung Food Trucks – entspanntes Ausklingen)  \nSonntag 12:00 Uhr – 20:00 Uhr \n 
URL:https://street-food-market.de/event/%f0%9f%93%85alzey%f0%9f%8d%94-street-food-festival/
LOCATION:Alzey\, Ostdeutsche Str. 2\, 55232\, Alzey\, Rheinland-Pfalz\, Deutschland
CATEGORIES:Street Food Festivals
ATTACH;FMTTYPE=image/jpeg:https://street-food-market.de/wp-content/uploads/2020/04/Alzey.jpg
END:VEVENT
END:VCALENDAR