BEGIN:VCALENDAR
VERSION:2.0
PRODID:-//Street Food Festival &amp; Market - ECPv6.15.12.2//NONSGML v1.0//EN
CALSCALE:GREGORIAN
METHOD:PUBLISH
X-WR-CALNAME:Street Food Festival &amp; Market
X-ORIGINAL-URL:https://street-food-market.de
X-WR-CALDESC:Veranstaltungen für Street Food Festival &amp; Market
REFRESH-INTERVAL;VALUE=DURATION:PT1H
X-Robots-Tag:noindex
X-PUBLISHED-TTL:PT1H
BEGIN:VTIMEZONE
TZID:Europe/Berlin
BEGIN:DAYLIGHT
TZOFFSETFROM:+0100
TZOFFSETTO:+0200
TZNAME:CEST
DTSTART:20240331T010000
END:DAYLIGHT
BEGIN:STANDARD
TZOFFSETFROM:+0200
TZOFFSETTO:+0100
TZNAME:CET
DTSTART:20241027T010000
END:STANDARD
BEGIN:DAYLIGHT
TZOFFSETFROM:+0100
TZOFFSETTO:+0200
TZNAME:CEST
DTSTART:20250330T010000
END:DAYLIGHT
BEGIN:STANDARD
TZOFFSETFROM:+0200
TZOFFSETTO:+0100
TZNAME:CET
DTSTART:20251026T010000
END:STANDARD
BEGIN:DAYLIGHT
TZOFFSETFROM:+0100
TZOFFSETTO:+0200
TZNAME:CEST
DTSTART:20260329T010000
END:DAYLIGHT
BEGIN:STANDARD
TZOFFSETFROM:+0200
TZOFFSETTO:+0100
TZNAME:CET
DTSTART:20261025T010000
END:STANDARD
END:VTIMEZONE
BEGIN:VEVENT
DTSTART;VALUE=DATE:20250424
DTEND;VALUE=DATE:20250428
DTSTAMP:20260423T222559
CREATED:20230113T132424Z
LAST-MODIFIED:20250217T172237Z
UID:7195-1745452800-1745798399@street-food-market.de
SUMMARY:📅 Wiesbaden 🍔 “Schoppetage” 2025
DESCRIPTION:Wiesbadener Schoppetage 2025 – Wein\, Apfelwein & Genuss  \nim Herzen der Stadt // lokale und regionale Köstlichkeiten // Eintritt frei \nIn diesem Jahr laden die Wiesbadener Schoppetage von Donnerstag\, den 24.04.2025 bis Sonntag\, den 27.04.2025\, wieder zum Schlemmen und Genießen hessischer Spezialitäten mit Freunden und der Familie ein. Auch in diesem Jahr wird der Schlossplatz\, im Herzen der Stadt\, in absolut zentraler Lage bespielt. Ideal also\, um den Marktbesuch und den Stadtbummel mit einem Stopp bei uns zu verbinden und einen kleinen Snack auf der Rathaustreppe in der Sonne zu genießen.  \nAn 4 Tagen kann man hier ein kleines aber feines Angebot für jedermann rund um Wein\, Apfelwein und leckere Street-Food-Köstlichkeiten wie Burger oder Süßes erleben. Ausgewählte Winzer und Apfelweinkeltereien aus ganz Hessen sorgen für das gute “Stöffsche” und werden ihr vielfältiges Sortiment vorstellen. Für die kleinen Räuber wird es gegen Gebühr ein Karussell geben.  \n“Wir freuen uns sehr darauf\, die beliebten Wiesbadener Schoppetage wieder im Herzen der Stadt ausrichten zu können. Ohne die tatkräftige Unterstützung aller Beteiligten\, wie der Stadt\, Sponsoren\, Anwohnern und Besuchern\, wäre das Event in diesen dynamischen Zeiten nicht möglich – und das ohne Eintrittspreise.”\, so Kai Kauermann (Geschäftsführer Stadtleben GmbH).  \nMit diesem kulinarischen Event möchten wir ein Stück der regionalen und traditionellen Genusskultur zurück in ihre Hauptstadt bringen. Schließlich beheimatet diese schöne Region neben vorzüglichen Weinen\, für die wir weltweit berühmt sind\, auch noch zahlreiche weitere Spezialitäten rund um den Apfelwein\, Handkäse und Co.\, die an diesem Wochenende wieder in den kulinarischen Fokus rücken sollen. Verschiedene Straßenkünstler werden für bunte Unterhaltung sorgen. Der Besuch lässt sich zudem hervorragend mit einem Stadtbummel oder einem ausgedehnten Spaziergang durch den Wiesbadener Kurpark verbinden.  \nWir wünschen allen Besuchern und Standbetreibern ein gelungenes und genussvolles Wochenende\, ganz im Zeichen der hessischen Gemütlichkeit und des guten Geschmacks. \n  \nWann? \nDonnerstag\, den 24.04.2025 bis Sonntag\, den 27.04.2025 \nDonnerstag ab 16:00 Uhr  \nFreitag ab 14:00 Uhr \nSamstag ab 12:00 Uhr \nSonntag ab 12:00 Uhr \n  \nWo?  \nSchlossplatz Wiesbaden (vorm Rathaus)  \n65183 Wiesbaden \n 
URL:https://street-food-market.de/event/%f0%9f%93%85-wiesbaden-%f0%9f%8d%94-schoppetage-wein-genuss/
LOCATION:Schlossplatz Wiesbaden
ATTACH;FMTTYPE=image/jpeg:https://street-food-market.de/wp-content/uploads/2022/04/20171008-164549-IMG_8718-scaled.jpg
END:VEVENT
END:VCALENDAR