BEGIN:VCALENDAR
VERSION:2.0
PRODID:-//Street Food Festival &amp; Market - ECPv6.15.12.2//NONSGML v1.0//EN
CALSCALE:GREGORIAN
METHOD:PUBLISH
X-WR-CALNAME:Street Food Festival &amp; Market
X-ORIGINAL-URL:https://street-food-market.de
X-WR-CALDESC:Veranstaltungen für Street Food Festival &amp; Market
REFRESH-INTERVAL;VALUE=DURATION:PT1H
X-Robots-Tag:noindex
X-PUBLISHED-TTL:PT1H
BEGIN:VTIMEZONE
TZID:Europe/Berlin
BEGIN:DAYLIGHT
TZOFFSETFROM:+0100
TZOFFSETTO:+0200
TZNAME:CEST
DTSTART:20240331T010000
END:DAYLIGHT
BEGIN:STANDARD
TZOFFSETFROM:+0200
TZOFFSETTO:+0100
TZNAME:CET
DTSTART:20241027T010000
END:STANDARD
BEGIN:DAYLIGHT
TZOFFSETFROM:+0100
TZOFFSETTO:+0200
TZNAME:CEST
DTSTART:20250330T010000
END:DAYLIGHT
BEGIN:STANDARD
TZOFFSETFROM:+0200
TZOFFSETTO:+0100
TZNAME:CET
DTSTART:20251026T010000
END:STANDARD
BEGIN:DAYLIGHT
TZOFFSETFROM:+0100
TZOFFSETTO:+0200
TZNAME:CEST
DTSTART:20260329T010000
END:DAYLIGHT
BEGIN:STANDARD
TZOFFSETFROM:+0200
TZOFFSETTO:+0100
TZNAME:CET
DTSTART:20261025T010000
END:STANDARD
END:VTIMEZONE
BEGIN:VEVENT
DTSTART;VALUE=DATE:20250228
DTEND;VALUE=DATE:20250303
DTSTAMP:20260423T233948
CREATED:20231110T110438Z
LAST-MODIFIED:20241231T113516Z
UID:7571-1740700800-1740959999@street-food-market.de
SUMMARY:📅 Hanau 🍔 Wintergrillen
DESCRIPTION:Hanauer Wintergrillen 2025 \nWinterstimmung / Internationale Grillmeile / Kids Area / Fastnachtsumzug \nIm Zeitraum von Freitag\, den 28.02.2024 bis Sonntag\, den 02.03.2025\, wird die Brüder-Grimm-Stadt Hanau wieder zum Schauplatz eines kulinarischen Winterspektakels der anderen Art – und dieses Mal als Fastnachts-Ausgabe. Die Besucher dürfen sich auf ein kleines aber feines Angebot an internationalen Spezialitäten auf der Grillmeile sowie winterliche Stimmung zum Bummeln und Freunde treffen freuen. Neben einer Glühweinbar\,  gegrillten Fleischspießen und saftigen Burgern wird es auch ein veganes und vegetarisches Angebot geben. Der Eintritt ist frei!  \nBesonderes Highlight: In diesem Jahr fällt unsere Veranstaltung mit den Fastnachtstagen zusammen\, In Hanau wird es am Samstag einen neuen Fastnachtsumzug durch die Stadt und am Freiheitsplatz vorbei geben. DJs und Partystimmung dürfen hier natürlich auch nicht fehlen: Kostümieren\, Freunde treffen\, Spaß haben und leckeres Streetfood genießen.  \nDie Stadtleben GmbH und die dazugehörigen Verbundpartner wie die Raketenklub GmbH freuen sich sehr auf die Tage in Hanau. Für die kleinen Räuber wird es eine Kidsarea geben. Die Stadt Hanau unterstützt das Vorhaben des Veranstalterverbunds auch in diesem Jahr wieder tatkräftig. \n“Erfahrungsgemäß zählen die Wintermonate nach Weihnachten zu den Monaten\, die weniger Events zu bieten haben. Dem wollten wir gerne entgegenwirken. Nachdem das Event im vergangenen Jahr so gut angenommen wurde\, freuen wir uns auf eine Fortsetzung und auf alle\, die uns dabei unterstützen.Besonders schön ist zu sehen\, wie unser Konzept mit den dort ansässigen Anbietern harmoniert. Einkaufen\, Fastnacht feiern\, in eines der Cafés einkehren und Streetfood genießen – alles an einem Platz. ”\, so Kai Kauermann (Geschäftsführer der Stadtleben GmbH).  \nEin besonderer Dank geht an die Stadt Hanau und die zahlreichen Sponsoren und Mitwirkenden und Hanau Stadtmarketing\, den Bauhof und das Ordnungsamt  für die tolle Zusammenarbeit und die großartige Unterstützung\, ohne die das Event in dieser Form nicht möglich gewesen wäre.  \nAlles Wichtige auf einen Blick:  \n  \nWann?  \nFreitag\, den 28.02.2024 bis Sonntag\, den 02.03.2025 \nFreitags ab 12:00 Uhr \nSamstags ab 11:11 Uhr \nSonntags ab 12:00 Uhr \nWo? \nFreiheitsplatz Hanau
URL:https://street-food-market.de/event/%f0%9f%93%85-hanau-%f0%9f%8d%94-wintergrillen/
LOCATION:Hanau\, Schlossgarten\, 63450\, Hanau\, Hessen
ATTACH;FMTTYPE=image/jpeg:https://street-food-market.de/wp-content/uploads/2020/04/BAd-Soden-scaled.jpg
END:VEVENT
END:VCALENDAR