BEGIN:VCALENDAR
VERSION:2.0
PRODID:-//Street Food Festival &amp; Market - ECPv6.15.12.2//NONSGML v1.0//EN
CALSCALE:GREGORIAN
METHOD:PUBLISH
X-WR-CALNAME:Street Food Festival &amp; Market
X-ORIGINAL-URL:https://street-food-market.de
X-WR-CALDESC:Veranstaltungen für Street Food Festival &amp; Market
REFRESH-INTERVAL;VALUE=DURATION:PT1H
X-Robots-Tag:noindex
X-PUBLISHED-TTL:PT1H
BEGIN:VTIMEZONE
TZID:Europe/Berlin
BEGIN:DAYLIGHT
TZOFFSETFROM:+0100
TZOFFSETTO:+0200
TZNAME:CEST
DTSTART:20240331T010000
END:DAYLIGHT
BEGIN:STANDARD
TZOFFSETFROM:+0200
TZOFFSETTO:+0100
TZNAME:CET
DTSTART:20241027T010000
END:STANDARD
BEGIN:DAYLIGHT
TZOFFSETFROM:+0100
TZOFFSETTO:+0200
TZNAME:CEST
DTSTART:20250330T010000
END:DAYLIGHT
BEGIN:STANDARD
TZOFFSETFROM:+0200
TZOFFSETTO:+0100
TZNAME:CET
DTSTART:20251026T010000
END:STANDARD
BEGIN:DAYLIGHT
TZOFFSETFROM:+0100
TZOFFSETTO:+0200
TZNAME:CEST
DTSTART:20260329T010000
END:DAYLIGHT
BEGIN:STANDARD
TZOFFSETFROM:+0200
TZOFFSETTO:+0100
TZNAME:CET
DTSTART:20261025T010000
END:STANDARD
END:VTIMEZONE
BEGIN:VEVENT
DTSTART;TZID=Europe/Berlin:20250529T140000
DTEND;TZID=Europe/Berlin:20250601T200000
DTSTAMP:20260420T194937
CREATED:20250421T102629Z
LAST-MODIFIED:20250421T102922Z
UID:8133-1748527200-1748808000@street-food-market.de
SUMMARY:Mainzer Street Food Festival 2025
DESCRIPTION:Mainzer Street Food Festival 2025 \nDirekt am Rheinufer // feine Weine und Leckeres // Eintritt frei \nWir kommen wieder: Von Donnerstag\, den 29.05.2025 bis Sonntag\, den 01.06.2025\, macht das Konzept der rollenden Küchenkunst Halt in der rheinland-pfälzischen Landeshauptstadt. Die Besucher dürfen sich auf Weinstände und Craft Bier in Kombinationen mit Leckereien der Food Trucks auf der Genussmeile direkt am Rheinufer vor der Malakoff Terrasse freuen: Schlemmen und Genießen mit Freunden und der Familie – Der Eintritt ist frei! \nKulinarische Abenteuer: Vom Genuss-Festival über das Mainzer Street Food Festival bis zum Hyatt Panoramagarten. Das exklusive Hotel am Rheinufer verzaubert mit einer einzigartigen Lage. Ideal\, um einen Bummel durch die nahegelegene Altstadt zu machen oder mit einem Besuch des beliebten Marktfrühstücks zu verbinden. Bei uns geht es dann noch weiter in die Abendstundene: Hier lassen sich dann die letzten Sonnenstrahlen des Tages mit leckeren Drinks und Snacks genießen. \nDie Stadtleben GmbH und die dazugehörigen Verbundpartner\, wie die Raketenklub GmbH\, freuen sich sehr auf die Genuss-Tage im schönen Mainz. \nEin besonderer Dank geht bereits jetzt an die Stadt und die Anwohner\, die uns mit offenen Armen empfangen. \n„Wir freuen uns sehr auch in diesem Jahr und trotz der dynamischen Zeiten diese schöne Location bespielen zu können – wir bedanken uns bereits jetzt bei allen Besuchern\, die uns hierbei unterstützen und ein schönes Wochenende mit Rheinpanorama erleben möchten.“\, Kai Kauermann\, Geschäftsführer Stadtleben GmbH. \nMission Genussreise & Freunde treffen – Das Konzept der rollenden Küchenkunst \nSchlemmen\, Staunen und Entdecken. So lässt sich das ebenso simple wie geniale Konzept der Street Food Festival Reihe prägnant beschreiben\, die bereits seit dem Herbst 2015 kulinarisch interessierte Besucher jeden Alters und unterschiedlichster Herkunft an den verschiedensten Standorten in ihren Bann zieht.„Fine Dining“ trifft hier auf das klassische Barbecue\, vegane und vegetarische Spezialitäten auf „Fast Casual Schweinereien“. Dieses einzigartige kulinarische Konzept wurde im Februar 2016 mit dem Tourismuspreis der Region Wiesbaden und Rheingau-Taunus ausgezeichnet. \nAlles Wichtige auf einen Blick:  \nDO 29.05.2025 – SO 01.06.2025\, Mainz\, Street Food Festival \nLocation: Rheinufer (Vor Malakoff Terrasse)\, Mainz Eintritt frei \nÖffnungszeiten: DO ab 14 Uhr\, FR ab 14 Uhr\, SA ab 12 Uhr\, SO ab 12 Uhr \n 
URL:https://street-food-market.de/event/mainzer-street-food-festival-2025-2/
LOCATION:Rheinufer vor Malakoff Terrasse
CATEGORIES:Street Food Festivals
ATTACH;FMTTYPE=image/png:https://street-food-market.de/wp-content/uploads/2019/11/Brotgericht.png
END:VEVENT
END:VCALENDAR