BEGIN:VCALENDAR
VERSION:2.0
PRODID:-//Street Food Festival &amp; Market - ECPv6.15.12.2//NONSGML v1.0//EN
CALSCALE:GREGORIAN
METHOD:PUBLISH
X-WR-CALNAME:Street Food Festival &amp; Market
X-ORIGINAL-URL:https://street-food-market.de
X-WR-CALDESC:Veranstaltungen für Street Food Festival &amp; Market
REFRESH-INTERVAL;VALUE=DURATION:PT1H
X-Robots-Tag:noindex
X-PUBLISHED-TTL:PT1H
BEGIN:VTIMEZONE
TZID:Europe/Berlin
BEGIN:DAYLIGHT
TZOFFSETFROM:+0100
TZOFFSETTO:+0200
TZNAME:CEST
DTSTART:20240331T010000
END:DAYLIGHT
BEGIN:STANDARD
TZOFFSETFROM:+0200
TZOFFSETTO:+0100
TZNAME:CET
DTSTART:20241027T010000
END:STANDARD
BEGIN:DAYLIGHT
TZOFFSETFROM:+0100
TZOFFSETTO:+0200
TZNAME:CEST
DTSTART:20250330T010000
END:DAYLIGHT
BEGIN:STANDARD
TZOFFSETFROM:+0200
TZOFFSETTO:+0100
TZNAME:CET
DTSTART:20251026T010000
END:STANDARD
BEGIN:DAYLIGHT
TZOFFSETFROM:+0100
TZOFFSETTO:+0200
TZNAME:CEST
DTSTART:20260329T010000
END:DAYLIGHT
BEGIN:STANDARD
TZOFFSETFROM:+0200
TZOFFSETTO:+0100
TZNAME:CET
DTSTART:20261025T010000
END:STANDARD
END:VTIMEZONE
BEGIN:VEVENT
DTSTART;VALUE=DATE:20250508
DTEND;VALUE=DATE:20250512
DTSTAMP:20260422T015158
CREATED:20231124T080950Z
LAST-MODIFIED:20250105T145614Z
UID:7589-1746662400-1747007999@street-food-market.de
SUMMARY:📅Raunheim🍔 Bier\, Wein & Genuss Festival 2025
DESCRIPTION:Raunheimer Wein-\, Bier- und Genuss-Festival 2025 \nInternationale Food Trucks und Stände// Klein aber fein // Kidsbereich// Eintritt frei \nWir kommen wieder: Im Zeitraum von Donnerstag\, den 08.05.2025 bis Sonntag\, den 11.05.2025 heißt es in Raunheim wieder: Schlemmen\, Staunen und Freunde treffen – und diesmal sogar an gleich 4 Tagen!  \nIn diesem Jahr wird bereits zum zweiten Mal der Standort im Herzen der Stadt auf dem Rathausplatz bespielt. Die Stadtleben GmbH und die dazugehörigen Verbundpartner\, wie die Raketenklub GmbH freuen sich sehr auf dieses besondere Wochenende voll guter Laune und köstlicher Snacks – und selbstverständlich ganz besonders auf die neugierigen Besucher. Das Angebot an Speisen reicht von südamerikanischen Spießen über saftige Burgern und süßen Waffeln bis zu veganen Trendgerichten. Leckere Weine aus dem Rheingau\, von der Nahe und Rheinhessen runden das Angebot ab. \nFür die kleinen Räuber wird es Spiel und Spaß im Kids Bereich geben – inklusive Karussell.  \n„Wir freuen uns sehr auch in diesem Jahr und trotz der dynamischen Zeiten diese tolle Location im Herzen der Stadt bespielen zu können. Wir bedanken uns bei der Stadt für die tolle Zusammenarbeit und freuen uns auf alle Besucher\, die uns hierbei unterstützen. Da das Event im vergangenen Jahr so gut angenommen wurde\, haben wir uns dazu entschieden\, es fest in unserem Programm zu platzieren.“\, so Kai Kauermann\, Geschäftsführer Stadtleben GmbH. \nAlles Wichtige auf einen Blick  \nWann? \nDonnerstag\, den 08.05.2025 bis Sonntag\, den 11.05.2025 \n  \nWo? \nAm Stadtzentrum 1\, Rathausplatz 65479 Raunheim \nDonnerstag ab 16:00 Uhr \nFreitag 16:00 Uhr – 23:00 Uhr (Ende d. Musik 22:00 Uhr\, Schließung Food Trucks 24:00 Uhr- entspanntes Ausklingen)  \nSamstag 12:00 Uhr – 23:00 Uhr  (Ende d. Musik 22:00 Uhr\, Schließung Food Trucks 24:00 Uhr- entspanntes Ausklingen)  \nSonntag 12:00 Uhr – 20:00 Uhr \n 
URL:https://street-food-market.de/event/%f0%9f%93%85raunheim%f0%9f%8d%94-bier-wein-genuss-festival/
LOCATION:Raunheimer Wein\, Bier und Genuss Festival\, Am Stadtzentrum 1\, 65479\, Raunheim\, Hessen\, Deutschland
CATEGORIES:Bier-Genuss-Festival,Wein-Genuss-Festival
ATTACH;FMTTYPE=image/jpeg:https://street-food-market.de/wp-content/uploads/2019/05/Hofheim-2.jpg
END:VEVENT
END:VCALENDAR